BEGIN:VCALENDAR
VERSION:2.0
PRODID:-//Ajuntament de Mont-roig del Camp - ECPv5.16.3.1//NONSGML v1.0//EN
CALSCALE:GREGORIAN
METHOD:PUBLISH
X-WR-CALNAME:Ajuntament de Mont-roig del Camp
X-ORIGINAL-URL:https://mont-roig.cat
X-WR-CALDESC:Esdeveniments per Ajuntament de Mont-roig del Camp
BEGIN:VTIMEZONE
TZID:Europe/Madrid
BEGIN:DAYLIGHT
TZOFFSETFROM:+0100
TZOFFSETTO:+0200
TZNAME:CEST
DTSTART:20190331T010000
END:DAYLIGHT
BEGIN:STANDARD
TZOFFSETFROM:+0200
TZOFFSETTO:+0100
TZNAME:CET
DTSTART:20191027T010000
END:STANDARD
END:VTIMEZONE
BEGIN:VEVENT
DTSTART;TZID=Europe/Madrid:20191019T200000
DTEND;TZID=Europe/Madrid:20191019T220000
DTSTAMP:20260420T173218
CREATED:20191001T183329Z
LAST-MODIFIED:20191015T090403Z
UID:39253-1571515200-1571522400@mont-roig.cat
SUMMARY:Festival Accents. Concert amb el grup Filferro
DESCRIPTION:El concert de Filferro\, ara en format trio\, tindrà lloc el dissabte 19 d’octubre a les 20.00h. Es tracta d’un grup del Bages i l’Anoia que dóna la volta als grans èxits de la música moderna adaptant-los al català. Mostrant així els temes que hem escoltat tota la vida de tal manera que semblin fets aquí. Van començar a Youtube i va ser tan bona l’acollida que no van tardar a fer el salt als escenaris\, on han tocat per tota la geografia catalana aquests últims anys amb filferro duet i ara des de fa un temps recullen l’estela del duet original amb aquesta versió 2.0 que tan bona rebuda esta tenint arreu. L’Aleluya\, el So del silenci\, El final de countdown i un llarg etcètera.. amb el que connecten dia a dia amb els seus milers de seguidors i seguidores. \nEn acabar el concert de Mont-roig hi haurà una copa de vi de la DO Catalunya i de Vermut Miró que són dos dels patrocinadors de l’Accents. \n 
URL:https://mont-roig.cat/acte/festival-accents-concert-amb-el-grup-filferro/
LOCATION:Centre Cultural Església Vella\, Carrer Major\, 2\, Mont-roig del Camp\, Tarragona\, 43300\, Spain
CATEGORIES:Ajuntament,Cultura
ATTACH;FMTTYPE=image/jpeg:https://mont-roig.cat/wp-content/uploads/CARTELLS_CicleTeatre_2n_Semestre_2019_page-0003.jpg
GEO:41.0877788;0.958854
X-APPLE-STRUCTURED-LOCATION;VALUE=URI;X-ADDRESS=Centre Cultural Església Vella Carrer Major 2 Mont-roig del Camp Tarragona 43300 Spain;X-APPLE-RADIUS=500;X-TITLE=Carrer Major\, 2:geo:0.958854,41.0877788
END:VEVENT
END:VCALENDAR