BEGIN:VCALENDAR
VERSION:2.0
PRODID:-//Ajuntament de Mont-roig del Camp - ECPv5.16.3.1//NONSGML v1.0//EN
CALSCALE:GREGORIAN
METHOD:PUBLISH
X-WR-CALNAME:Ajuntament de Mont-roig del Camp
X-ORIGINAL-URL:https://mont-roig.cat
X-WR-CALDESC:Esdeveniments per Ajuntament de Mont-roig del Camp
BEGIN:VTIMEZONE
TZID:Europe/Madrid
BEGIN:DAYLIGHT
TZOFFSETFROM:+0100
TZOFFSETTO:+0200
TZNAME:CEST
DTSTART:20160327T010000
END:DAYLIGHT
BEGIN:STANDARD
TZOFFSETFROM:+0200
TZOFFSETTO:+0100
TZNAME:CET
DTSTART:20161030T010000
END:STANDARD
END:VTIMEZONE
BEGIN:VEVENT
DTSTART;TZID=Europe/Madrid:20161222T110000
DTEND;TZID=Europe/Madrid:20161222T123000
DTSTAMP:20260422T070012
CREATED:20161116T093103Z
LAST-MODIFIED:20161116T093103Z
UID:13520-1482404400-1482409800@mont-roig.cat
SUMMARY:Festival de Nadal amb els alumnes de l'Escola Joan Miró
DESCRIPTION:Festival de Nadal\, a càrrec dels alumnes de l’Escola Joan Miró.
URL:https://mont-roig.cat/acte/festival-nadal-alumnes-lescola-joan-miro/
LOCATION:Poliesportiu de Miami Platja\, Badajoz\, 4\, Miami Platja
CATEGORIES:Ajuntament,Educació
GEO:41.00588;0.92511
X-APPLE-STRUCTURED-LOCATION;VALUE=URI;X-ADDRESS=Poliesportiu de Miami Platja Badajoz 4 Miami Platja;X-APPLE-RADIUS=500;X-TITLE=Badajoz\, 4:geo:0.92511,41.00588
END:VEVENT
END:VCALENDAR