BEGIN:VCALENDAR
VERSION:2.0
PRODID:-//Ajuntament de Mont-roig del Camp - ECPv5.16.3.1//NONSGML v1.0//EN
CALSCALE:GREGORIAN
METHOD:PUBLISH
X-WR-CALNAME:Ajuntament de Mont-roig del Camp
X-ORIGINAL-URL:https://mont-roig.cat
X-WR-CALDESC:Esdeveniments per Ajuntament de Mont-roig del Camp
BEGIN:VTIMEZONE
TZID:Europe/Madrid
BEGIN:DAYLIGHT
TZOFFSETFROM:+0100
TZOFFSETTO:+0200
TZNAME:CEST
DTSTART:20190331T010000
END:DAYLIGHT
BEGIN:STANDARD
TZOFFSETFROM:+0200
TZOFFSETTO:+0100
TZNAME:CET
DTSTART:20191027T010000
END:STANDARD
END:VTIMEZONE
BEGIN:VEVENT
DTSTART;TZID=Europe/Madrid:20190407T190000
DTEND;TZID=Europe/Madrid:20190407T200000
DTSTAMP:20260419T184225
CREATED:20190208T090454Z
LAST-MODIFIED:20190322T101518Z
UID:34117-1554663600-1554667200@mont-roig.cat
SUMMARY:Fito Luri
DESCRIPTION:El cantautor Fito Luri presentarà el seu nou disc\, Cru\, amb una onzena de cançons de caràcter introspectiu. L’artista reusenc ha volgut donar un gir a la seva trajectòria i presenta un àlbum amb temes autèntics\, propers i sense processar.
URL:https://mont-roig.cat/acte/fito-lauri/
LOCATION:Centre Cultural Església Vella
CATEGORIES:Ajuntament,Cultura
ATTACH;FMTTYPE=image/jpeg:https://mont-roig.cat/wp-content/uploads/Fito-Lauri.jpg
END:VEVENT
END:VCALENDAR