BEGIN:VCALENDAR
VERSION:2.0
PRODID:-//Ajuntament de Mont-roig del Camp - ECPv5.16.3.1//NONSGML v1.0//EN
CALSCALE:GREGORIAN
METHOD:PUBLISH
X-WR-CALNAME:Ajuntament de Mont-roig del Camp
X-ORIGINAL-URL:https://mont-roig.cat
X-WR-CALDESC:Esdeveniments per Ajuntament de Mont-roig del Camp
BEGIN:VTIMEZONE
TZID:Europe/Madrid
BEGIN:DAYLIGHT
TZOFFSETFROM:+0100
TZOFFSETTO:+0200
TZNAME:CEST
DTSTART:20260329T010000
END:DAYLIGHT
BEGIN:STANDARD
TZOFFSETFROM:+0200
TZOFFSETTO:+0100
TZNAME:CET
DTSTART:20261025T010000
END:STANDARD
END:VTIMEZONE
BEGIN:VEVENT
DTSTART;TZID=Europe/Madrid:20260525T093000
DTEND;TZID=Europe/Madrid:20260525T123000
DTSTAMP:20260423T082734
CREATED:20260421T102351Z
LAST-MODIFIED:20260421T102351Z
UID:91203-1779701400-1779712200@mont-roig.cat
SUMMARY:Formació: Com crear un currículum digital
DESCRIPTION:Miami Platja \n\nConstrueix el teu futur \n\nEDICIÓ Nº 2\n25\, 26\, 27 i 28 de maig\nDe 9.30 a 12.30 h\nInscripcions 977 172 527 o promocio@mont-roig.cat
URL:https://mont-roig.cat/acte/formacio-com-crear-un-curriculum-digital-2/
LOCATION:Ecoespai\, Plaça Girona\, Miami Platja\, Tarragona\, 43892\, Spain
CATEGORIES:Ajuntament,Impuls Econòmic i Ocupació
ATTACH;FMTTYPE=image/png:https://mont-roig.cat/wp-content/uploads/MM_COMERC_formacions_Primavera26_stories_2_MM_COMERC_formacions_Primavera26_stories-copia-4-scaled.png
END:VEVENT
END:VCALENDAR