BEGIN:VCALENDAR
VERSION:2.0
PRODID:-//Ajuntament de Mont-roig del Camp - ECPv5.16.3.1//NONSGML v1.0//EN
CALSCALE:GREGORIAN
METHOD:PUBLISH
X-WR-CALNAME:Ajuntament de Mont-roig del Camp
X-ORIGINAL-URL:https://mont-roig.cat
X-WR-CALDESC:Esdeveniments per Ajuntament de Mont-roig del Camp
BEGIN:VTIMEZONE
TZID:Europe/Madrid
BEGIN:DAYLIGHT
TZOFFSETFROM:+0100
TZOFFSETTO:+0200
TZNAME:CEST
DTSTART:20210328T010000
END:DAYLIGHT
BEGIN:STANDARD
TZOFFSETFROM:+0200
TZOFFSETTO:+0100
TZNAME:CET
DTSTART:20211031T010000
END:STANDARD
END:VTIMEZONE
BEGIN:VEVENT
DTSTART;VALUE=DATE:20210224
DTEND;VALUE=DATE:20210225
DTSTAMP:20260420T213236
CREATED:20210209T114244Z
LAST-MODIFIED:20210209T114244Z
UID:53622-1614124800-1614211199@mont-roig.cat
SUMMARY:Grans mites grecs\, El Rei Mides
DESCRIPTION:Les Biblioteques donen la benvinguda a les nenes i nens al meravellós món dels Mites Grecs\, relats magnífics que es remunten milers d’anys enrere\, amb déus\, gegants\, titans\, nimfes del bosc… i en acabar\, podràs participar en el Kahoot! i contestar les preguntes que et proposem.\n\n\n\n\nSi tens curiositat per conèixer aquests mons fantàstics\, segueix les nostres xarxes socials.
URL:https://mont-roig.cat/acte/grans-mites-grecs-el-rei-mides/
CATEGORIES:Cultura
END:VEVENT
END:VCALENDAR