BEGIN:VCALENDAR
VERSION:2.0
PRODID:-//Ajuntament de Mont-roig del Camp - ECPv5.16.3.1//NONSGML v1.0//EN
CALSCALE:GREGORIAN
METHOD:PUBLISH
X-WR-CALNAME:Ajuntament de Mont-roig del Camp
X-ORIGINAL-URL:https://mont-roig.cat
X-WR-CALDESC:Esdeveniments per Ajuntament de Mont-roig del Camp
BEGIN:VTIMEZONE
TZID:Europe/Madrid
BEGIN:DAYLIGHT
TZOFFSETFROM:+0100
TZOFFSETTO:+0200
TZNAME:CEST
DTSTART:20260329T010000
END:DAYLIGHT
BEGIN:STANDARD
TZOFFSETFROM:+0200
TZOFFSETTO:+0100
TZNAME:CET
DTSTART:20261025T010000
END:STANDARD
END:VTIMEZONE
BEGIN:VEVENT
DTSTART;TZID=Europe/Madrid:20260312T170000
DTEND;TZID=Europe/Madrid:20260312T170000
DTSTAMP:20260422T004029
CREATED:20260203T083131Z
LAST-MODIFIED:20260303T074752Z
UID:88543-1773334800-1773334800@mont-roig.cat
SUMMARY:Històries de dones
DESCRIPTION:Miami Platja \n\nDescobrirem relats reals de dones invisibilitzades\, desmentirem mites i versions tergiversades\, i donarem vida a les seves històries amb una mirada crítica i actual. \n\nL’Espai\n\n  \nDescarrega’t el programa del 8M Dia Internacional de les Dones AQUÍ
URL:https://mont-roig.cat/acte/histories-de-dones-2/
LOCATION:L’Espai\, Avinguda Málaga 32\, Miami Platja\, Tarragona\, 43892\, Spain
CATEGORIES:Ajuntament,Igualtat,Joventut
ATTACH;FMTTYPE=image/jpeg:https://mont-roig.cat/wp-content/uploads/8N-05-1.jpg
END:VEVENT
END:VCALENDAR