BEGIN:VCALENDAR
VERSION:2.0
PRODID:-//Ajuntament de Mont-roig del Camp - ECPv5.16.3.1//NONSGML v1.0//EN
CALSCALE:GREGORIAN
METHOD:PUBLISH
X-WR-CALNAME:Ajuntament de Mont-roig del Camp
X-ORIGINAL-URL:https://mont-roig.cat
X-WR-CALDESC:Esdeveniments per Ajuntament de Mont-roig del Camp
BEGIN:VTIMEZONE
TZID:Europe/Madrid
BEGIN:DAYLIGHT
TZOFFSETFROM:+0100
TZOFFSETTO:+0200
TZNAME:CEST
DTSTART:20200329T010000
END:DAYLIGHT
BEGIN:STANDARD
TZOFFSETFROM:+0200
TZOFFSETTO:+0100
TZNAME:CET
DTSTART:20201025T010000
END:STANDARD
END:VTIMEZONE
BEGIN:VEVENT
DTSTART;VALUE=DATE:20201017
DTEND;VALUE=DATE:20201018
DTSTAMP:20260421T110801
CREATED:20200810T120902Z
LAST-MODIFIED:20201001T081022Z
UID:51009-1602892800-1602979199@mont-roig.cat
SUMMARY:Inici curs de monitor/a d'activitats de dinamització en l'àmbit poliesportiu (Joves)
DESCRIPTION:En el marc del programa de Formació 2020\, s’ofereix el curs Monitor/a d’activitats de dinamització en l’àmbit poliesportiu\, curs semipresencial i que es realitzarà tots els dissabtes i diumenges de 9 a 14 h i de 15 a 20 h\, amb un total de 250 hores. \nRequisits per realitzar aquest curs: \n\nTenir entre 16 i 35 anys\nCertificat d’ESO o equivalent\n\nConsultar preus d’aquest curs. L’Ajuntament subvenciona el 50% del cost del curs. \nInscripcions o més informació a: promocio@mont-roig.cat o al telèfon 977 172 527
URL:https://mont-roig.cat/acte/inici-curs-de-monitor-a-dactivitats-de-dinamitzacio-en-lambit-poliesportiu-joves/
CATEGORIES:Impuls Econòmic i Ocupació,Joventut
END:VEVENT
END:VCALENDAR