BEGIN:VCALENDAR
VERSION:2.0
PRODID:-//Ajuntament de Mont-roig del Camp - ECPv5.16.3.1//NONSGML v1.0//EN
CALSCALE:GREGORIAN
METHOD:PUBLISH
X-WR-CALNAME:Ajuntament de Mont-roig del Camp
X-ORIGINAL-URL:https://mont-roig.cat
X-WR-CALDESC:Esdeveniments per Ajuntament de Mont-roig del Camp
BEGIN:VTIMEZONE
TZID:Europe/Madrid
BEGIN:DAYLIGHT
TZOFFSETFROM:+0100
TZOFFSETTO:+0200
TZNAME:CEST
DTSTART:20200329T010000
END:DAYLIGHT
BEGIN:STANDARD
TZOFFSETFROM:+0200
TZOFFSETTO:+0100
TZNAME:CET
DTSTART:20201025T010000
END:STANDARD
END:VTIMEZONE
BEGIN:VEVENT
DTSTART;VALUE=DATE:20201016
DTEND;VALUE=DATE:20201017
DTSTAMP:20260421T135612
CREATED:20200812T071623Z
LAST-MODIFIED:20200813T105108Z
UID:51032-1602806400-1602892799@mont-roig.cat
SUMMARY:Inici curs Manipulador/a d'aliments
DESCRIPTION:En el marc del programa de Formació 2020\, s’ofereix el curs Manipulador/a d’aliments online\, que te una durada de 3 hores. \nCurs gratuït i sense fiança \nInscripcions o més informació a: promocio@mont-roig.cat o al telèfon 977 172 527
URL:https://mont-roig.cat/acte/inici-curs-manipulador-a-daliments/
CATEGORIES:Impuls Econòmic i Ocupació
END:VEVENT
END:VCALENDAR