BEGIN:VCALENDAR
VERSION:2.0
PRODID:-//Ajuntament de Mont-roig del Camp - ECPv5.16.3.1//NONSGML v1.0//EN
CALSCALE:GREGORIAN
METHOD:PUBLISH
X-WR-CALNAME:Ajuntament de Mont-roig del Camp
X-ORIGINAL-URL:https://mont-roig.cat
X-WR-CALDESC:Esdeveniments per Ajuntament de Mont-roig del Camp
BEGIN:VTIMEZONE
TZID:Europe/Madrid
BEGIN:DAYLIGHT
TZOFFSETFROM:+0100
TZOFFSETTO:+0200
TZNAME:CEST
DTSTART:20190331T010000
END:DAYLIGHT
BEGIN:STANDARD
TZOFFSETFROM:+0200
TZOFFSETTO:+0100
TZNAME:CET
DTSTART:20191027T010000
END:STANDARD
END:VTIMEZONE
BEGIN:VEVENT
DTSTART;TZID=Europe/Madrid:20190608T110000
DTEND;TZID=Europe/Madrid:20190608T130000
DTSTAMP:20260422T162517
CREATED:20190522T124355Z
LAST-MODIFIED:20190522T124355Z
UID:36558-1559991600-1559998800@mont-roig.cat
SUMMARY:Jornada portes obertes Escola Municipal de Música a Miami
DESCRIPTION:
URL:https://mont-roig.cat/acte/jornada-portes-obertes-escola-municipal-de-musica-a-miami/
LOCATION:Aula de Música de Miami Platja
CATEGORIES:Ajuntament,Cultura
ATTACH;FMTTYPE=image/jpeg:https://mont-roig.cat/wp-content/uploads/CARTELL_JORNADA_PORTES_OBERTES_2019-1.jpg
END:VEVENT
END:VCALENDAR