BEGIN:VCALENDAR
VERSION:2.0
PRODID:-//Ajuntament de Mont-roig del Camp - ECPv5.16.3.1//NONSGML v1.0//EN
CALSCALE:GREGORIAN
METHOD:PUBLISH
X-WR-CALNAME:Ajuntament de Mont-roig del Camp
X-ORIGINAL-URL:https://mont-roig.cat
X-WR-CALDESC:Esdeveniments per Ajuntament de Mont-roig del Camp
BEGIN:VTIMEZONE
TZID:Europe/Madrid
BEGIN:DAYLIGHT
TZOFFSETFROM:+0100
TZOFFSETTO:+0200
TZNAME:CEST
DTSTART:20260329T010000
END:DAYLIGHT
BEGIN:STANDARD
TZOFFSETFROM:+0200
TZOFFSETTO:+0100
TZNAME:CET
DTSTART:20261025T010000
END:STANDARD
END:VTIMEZONE
BEGIN:VEVENT
DTSTART;VALUE=DATE:20260605
DTEND;VALUE=DATE:20260606
DTSTAMP:20260421T064942
CREATED:20260126T115743Z
LAST-MODIFIED:20260126T124832Z
UID:88311-1780617600-1780703999@mont-roig.cat
SUMMARY:Jornades gastronòmiques del pop
DESCRIPTION:Mont-roig del Camp i Miami Platja \nInici de la XVIII  jornades gastrpnòmiques del pop!. Del mar a la taula\, els restauradors participants obren les seves portes amb propostes culinàries que fusionen la tradició i la creativitat amb el pop com a ingredient protagonista. \nVine i gaudeix d’aquest viatge gastronòmic per descobrir els secrets del pop a Mont-roig del Camp i Miami Platja. \nDel 5 al 21 de juny \nMés informació: Pròximament
URL:https://mont-roig.cat/acte/jornades-gastronomiques-del-pop-3/
CATEGORIES:Ajuntament,Turisme
ATTACH;FMTTYPE=image/png:https://mont-roig.cat/wp-content/uploads/POP-BANNER.png
END:VEVENT
END:VCALENDAR