BEGIN:VCALENDAR
VERSION:2.0
PRODID:-//Ajuntament de Mont-roig del Camp - ECPv5.16.3.1//NONSGML v1.0//EN
CALSCALE:GREGORIAN
METHOD:PUBLISH
X-WR-CALNAME:Ajuntament de Mont-roig del Camp
X-ORIGINAL-URL:https://mont-roig.cat
X-WR-CALDESC:Esdeveniments per Ajuntament de Mont-roig del Camp
BEGIN:VTIMEZONE
TZID:Europe/Madrid
BEGIN:DAYLIGHT
TZOFFSETFROM:+0100
TZOFFSETTO:+0200
TZNAME:CEST
DTSTART:20180325T010000
END:DAYLIGHT
BEGIN:STANDARD
TZOFFSETFROM:+0200
TZOFFSETTO:+0100
TZNAME:CET
DTSTART:20181028T010000
END:STANDARD
END:VTIMEZONE
BEGIN:VEVENT
DTSTART;VALUE=DATE:20180602
DTEND;VALUE=DATE:20180618
DTSTAMP:20260420T151103
CREATED:20180530T053159Z
LAST-MODIFIED:20180530T053159Z
UID:27981-1527897600-1529279999@mont-roig.cat
SUMMARY:Jornades Gastronòmiques del Pop
DESCRIPTION:Els restaurants participants de tot el municipi incorporaran a les seves cartes i menús plats amb el pop com a ingredient protagonista.
URL:https://mont-roig.cat/acte/jornades-gastronomiques-del-pop/
LOCATION:Mont-roig i Miami
CATEGORIES:Ajuntament,Turisme
ATTACH;FMTTYPE=image/jpeg:https://mont-roig.cat/wp-content/uploads/Jornades-pop-2018-001.jpg
END:VEVENT
END:VCALENDAR