BEGIN:VCALENDAR
VERSION:2.0
PRODID:-//Ajuntament de Mont-roig del Camp - ECPv5.16.3.1//NONSGML v1.0//EN
CALSCALE:GREGORIAN
METHOD:PUBLISH
X-WR-CALNAME:Ajuntament de Mont-roig del Camp
X-ORIGINAL-URL:https://mont-roig.cat
X-WR-CALDESC:Esdeveniments per Ajuntament de Mont-roig del Camp
BEGIN:VTIMEZONE
TZID:Europe/Madrid
BEGIN:DAYLIGHT
TZOFFSETFROM:+0100
TZOFFSETTO:+0200
TZNAME:CEST
DTSTART:20180325T010000
END:DAYLIGHT
BEGIN:STANDARD
TZOFFSETFROM:+0200
TZOFFSETTO:+0100
TZNAME:CET
DTSTART:20181028T010000
END:STANDARD
END:VTIMEZONE
BEGIN:VEVENT
DTSTART;TZID=Europe/Madrid:20180605T160000
DTEND;TZID=Europe/Madrid:20180605T170000
DTSTAMP:20260420T133510
CREATED:20180605T065316Z
LAST-MODIFIED:20180605T065316Z
UID:28149-1528214400-1528218000@mont-roig.cat
SUMMARY:Junta de Govern del Consell Comarcal
DESCRIPTION:
URL:https://mont-roig.cat/acte/junta-de-govern-del-consell-comarcal-2/
LOCATION:Reus\, 43201
CATEGORIES:Alcalde
GEO:39.9929821;-83.001221
END:VEVENT
END:VCALENDAR