BEGIN:VCALENDAR
VERSION:2.0
PRODID:-//Ajuntament de Mont-roig del Camp - ECPv5.16.3.1//NONSGML v1.0//EN
CALSCALE:GREGORIAN
METHOD:PUBLISH
X-WR-CALNAME:Ajuntament de Mont-roig del Camp
X-ORIGINAL-URL:https://mont-roig.cat
X-WR-CALDESC:Esdeveniments per Ajuntament de Mont-roig del Camp
BEGIN:VTIMEZONE
TZID:Europe/Madrid
BEGIN:DAYLIGHT
TZOFFSETFROM:+0100
TZOFFSETTO:+0200
TZNAME:CEST
DTSTART:20260329T010000
END:DAYLIGHT
BEGIN:STANDARD
TZOFFSETFROM:+0200
TZOFFSETTO:+0100
TZNAME:CET
DTSTART:20261025T010000
END:STANDARD
END:VTIMEZONE
BEGIN:VEVENT
DTSTART;VALUE=DATE:20261009
DTEND;VALUE=DATE:20261010
DTSTAMP:20260420T010420
CREATED:20260126T122747Z
LAST-MODIFIED:20260126T122747Z
UID:88314-1791504000-1791590399@mont-roig.cat
SUMMARY:La Cuina de l'Arròs de Tardor
DESCRIPTION:Mont-roig del Camp i Miami Platja \nUn any més celebrem l’arribada de la tardor a Mont-roig del Camp i Miami Platja amb les X Jornades Gastronòmiques de la Cuina de l’Arròs de Tardor 2026. Aquest és el moment idoni per tastar l’arròs\, un plat que destaca en la gastronomia del nostre territori\, i\, alhora\, gaudint dels productes de temporada i proximitat\, que omplen de color\, aromes i sabors de tardor les nostres taules i paladars… \nUn plaer en tots els sentits! Podràs escollir propostes gastronòmiques diferents i degustar els arrossos de sabors subtils i peculiars\, que et faran gaudir de la millor cuina de temporada. \nDel 9 al 25 d’octubre \nMés Informació: Pròximament.
URL:https://mont-roig.cat/acte/la-cuina-de-larros-de-tardor/
CATEGORIES:Ajuntament,Turisme
ATTACH;FMTTYPE=image/png:https://mont-roig.cat/wp-content/uploads/arros-BANNER.png
END:VEVENT
END:VCALENDAR