BEGIN:VCALENDAR
VERSION:2.0
PRODID:-//Ajuntament de Mont-roig del Camp - ECPv5.16.3.1//NONSGML v1.0//EN
CALSCALE:GREGORIAN
METHOD:PUBLISH
X-WR-CALNAME:Ajuntament de Mont-roig del Camp
X-ORIGINAL-URL:https://mont-roig.cat
X-WR-CALDESC:Esdeveniments per Ajuntament de Mont-roig del Camp
BEGIN:VTIMEZONE
TZID:Europe/Madrid
BEGIN:DAYLIGHT
TZOFFSETFROM:+0100
TZOFFSETTO:+0200
TZNAME:CEST
DTSTART:20190331T010000
END:DAYLIGHT
BEGIN:STANDARD
TZOFFSETFROM:+0200
TZOFFSETTO:+0100
TZNAME:CET
DTSTART:20191027T010000
END:STANDARD
END:VTIMEZONE
BEGIN:VEVENT
DTSTART;TZID=Europe/Madrid:20191005T200000
DTEND;TZID=Europe/Madrid:20191005T220000
DTSTAMP:20260420T070929
CREATED:20191001T183136Z
LAST-MODIFIED:20191001T183136Z
UID:39233-1570305600-1570312800@mont-roig.cat
SUMMARY:'La veu dels somnis'\, amb el Cor Ciutat de Reus. Homenatge a Freddie Mercury i Michael Jackson
DESCRIPTION:
URL:https://mont-roig.cat/acte/la-veu-dels-somnis-amb-el-cor-ciutat-de-reus-homenatge-a-freddie-mercury-i-michael-jackson/
LOCATION:Centre Polivalent Sant Jaume\, Carrer de Sòria\, 18\, Miami Platja\, Tarragona\, 43892\, Spain
CATEGORIES:Ajuntament,Cultura
ATTACH;FMTTYPE=image/jpeg:https://mont-roig.cat/wp-content/uploads/CARTELLS_CicleTeatre_2n_Semestre_2019_page-0001.jpg
END:VEVENT
END:VCALENDAR