BEGIN:VCALENDAR
VERSION:2.0
PRODID:-//Ajuntament de Mont-roig del Camp - ECPv5.16.3.1//NONSGML v1.0//EN
CALSCALE:GREGORIAN
METHOD:PUBLISH
X-WR-CALNAME:Ajuntament de Mont-roig del Camp
X-ORIGINAL-URL:https://mont-roig.cat
X-WR-CALDESC:Esdeveniments per Ajuntament de Mont-roig del Camp
BEGIN:VTIMEZONE
TZID:Europe/Madrid
BEGIN:DAYLIGHT
TZOFFSETFROM:+0100
TZOFFSETTO:+0200
TZNAME:CEST
DTSTART:20190331T010000
END:DAYLIGHT
BEGIN:STANDARD
TZOFFSETFROM:+0200
TZOFFSETTO:+0100
TZNAME:CET
DTSTART:20191027T010000
END:STANDARD
END:VTIMEZONE
BEGIN:VEVENT
DTSTART;TZID=Europe/Madrid:20190321T110000
DTEND;TZID=Europe/Madrid:20190321T130000
DTSTAMP:20260422T183121
CREATED:20190208T082628Z
LAST-MODIFIED:20190208T082628Z
UID:34119-1553166000-1553173200@mont-roig.cat
SUMMARY:La volta al món en 80 dies
DESCRIPTION:Els alumnes de 5è i 6è de les escoles Mare de Déu de la Roca\, Marcel·lí Esquius i Joan Miró estan convidats a gaudir de l’obra La volta al món en 80 dies de la companyia Producciones Lucky&Luke. Una proposta on els protagonistes passaran per tota mena d’aventures plenes d’intrigues\, persecucions i personatges curiosos.
URL:https://mont-roig.cat/acte/la-volta-al-mon-en-80-dies/
LOCATION:Centre Polivalent Sant Jaume\, Carrer de Sòria\, 18\, Miami Platja\, Tarragona\, 43892\, Spain
CATEGORIES:Ajuntament,Cultura
ATTACH;FMTTYPE=image/jpeg:https://mont-roig.cat/wp-content/uploads/La-volta-al-món-en-80-dies.jpg
END:VEVENT
END:VCALENDAR