BEGIN:VCALENDAR
VERSION:2.0
PRODID:-//Ajuntament de Mont-roig del Camp - ECPv5.16.3.1//NONSGML v1.0//EN
CALSCALE:GREGORIAN
METHOD:PUBLISH
X-WR-CALNAME:Ajuntament de Mont-roig del Camp
X-ORIGINAL-URL:https://mont-roig.cat
X-WR-CALDESC:Esdeveniments per Ajuntament de Mont-roig del Camp
BEGIN:VTIMEZONE
TZID:Europe/Madrid
BEGIN:DAYLIGHT
TZOFFSETFROM:+0100
TZOFFSETTO:+0200
TZNAME:CEST
DTSTART:20200329T010000
END:DAYLIGHT
BEGIN:STANDARD
TZOFFSETFROM:+0200
TZOFFSETTO:+0100
TZNAME:CET
DTSTART:20201025T010000
END:STANDARD
END:VTIMEZONE
BEGIN:VEVENT
DTSTART;TZID=Europe/Madrid:20200620T220000
DTEND;TZID=Europe/Madrid:20200620T233000
DTSTAMP:20260421T182126
CREATED:20200130T115525Z
LAST-MODIFIED:20200608T073006Z
UID:42924-1592690400-1592695800@mont-roig.cat
SUMMARY:Liceu a la fresca
DESCRIPTION:El 20 de juny el Gran Teatre del Liceu emetrà l’òpera Carmen de Bizet en directe\, en col·laboració amb RTVE i TV3. Malauradament\, aquest any no podrem gaudir en directe de l’òpera des del Gran Teatre del Liceu\, però podrem gaudir de la reemissió de l’òpera Carmen de Bizet amb la producció de Calixto Bieito. Aquesta gravació és especial i única perquè va ser l’estrena de la producció al Teatre i compta amb Béatrice Uria-Monzón com a Carmen\, Roberto Alagna com a Don José i Marina Poplovskaya com a Micaëla\, un repartiment de luxe que permetrà a tot Catalunya poder gaudir d’aquest icònic muntatge que ha esdevingut referent a Europa. \nEl dia 20 de juny a les 22 h us animem a seure en un lloc fresquet de casa vostra\, on pugueu connectar la televisió i sintonitzar el canal 33 per gaudir de la gran òpera Carmen. \nTrobareu més informació en aquest enllaç. \n 
URL:https://mont-roig.cat/acte/liceu-a-la-fresca-2/
CATEGORIES:Ajuntament,Cultura
ATTACH;FMTTYPE=image/jpeg:https://mont-roig.cat/wp-content/uploads/banner_liceualafresca_20.jpg
END:VEVENT
END:VCALENDAR