BEGIN:VCALENDAR
VERSION:2.0
PRODID:-//Ajuntament de Mont-roig del Camp - ECPv5.16.3.1//NONSGML v1.0//EN
CALSCALE:GREGORIAN
METHOD:PUBLISH
X-WR-CALNAME:Ajuntament de Mont-roig del Camp
X-ORIGINAL-URL:https://mont-roig.cat
X-WR-CALDESC:Esdeveniments per Ajuntament de Mont-roig del Camp
BEGIN:VTIMEZONE
TZID:Europe/Madrid
BEGIN:DAYLIGHT
TZOFFSETFROM:+0100
TZOFFSETTO:+0200
TZNAME:CEST
DTSTART:20190331T010000
END:DAYLIGHT
BEGIN:STANDARD
TZOFFSETFROM:+0200
TZOFFSETTO:+0100
TZNAME:CET
DTSTART:20191027T010000
END:STANDARD
END:VTIMEZONE
BEGIN:VEVENT
DTSTART;TZID=Europe/Madrid:20191130T100000
DTEND;TZID=Europe/Madrid:20191130T220000
DTSTAMP:20260421T075537
CREATED:20191122T094706Z
LAST-MODIFIED:20191128T075707Z
UID:40563-1575108000-1575151200@mont-roig.cat
SUMMARY:Mercat de Nadal
DESCRIPTION:Diverses parades d’artesans i comerços locals oferiran tot tipus de productes nadalencs. \nDe 17 a 19 h hi haurà un taller de pintar cares per als més petits. \nCol.labora:  Associació FEM Miami.
URL:https://mont-roig.cat/acte/mercat-de-nadal-3/
LOCATION:Plaça Tarragona\, Plaça Tarragona\, Miami Platja
CATEGORIES:Ajuntament,Impuls Econòmic i Ocupació
ATTACH;FMTTYPE=image/jpeg:https://mont-roig.cat/wp-content/uploads/Cartell_MercatNadalMiami2019.jpg
GEO:41.0097752;0.9391737
X-APPLE-STRUCTURED-LOCATION;VALUE=URI;X-ADDRESS=Plaça Tarragona Plaça Tarragona Miami Platja;X-APPLE-RADIUS=500;X-TITLE=Plaça Tarragona:geo:0.9391737,41.0097752
END:VEVENT
END:VCALENDAR