BEGIN:VCALENDAR
VERSION:2.0
PRODID:-//Ajuntament de Mont-roig del Camp - ECPv5.16.3.1//NONSGML v1.0//EN
CALSCALE:GREGORIAN
METHOD:PUBLISH
X-WR-CALNAME:Ajuntament de Mont-roig del Camp
X-ORIGINAL-URL:https://mont-roig.cat
X-WR-CALDESC:Esdeveniments per Ajuntament de Mont-roig del Camp
BEGIN:VTIMEZONE
TZID:Europe/Madrid
BEGIN:DAYLIGHT
TZOFFSETFROM:+0100
TZOFFSETTO:+0200
TZNAME:CEST
DTSTART:20180325T010000
END:DAYLIGHT
BEGIN:STANDARD
TZOFFSETFROM:+0200
TZOFFSETTO:+0100
TZNAME:CET
DTSTART:20181028T010000
END:STANDARD
END:VTIMEZONE
BEGIN:VEVENT
DTSTART;TZID=Europe/Madrid:20181201T100000
DTEND;TZID=Europe/Madrid:20181201T220000
DTSTAMP:20260423T124922
CREATED:20181123T072636Z
LAST-MODIFIED:20181123T073750Z
UID:32275-1543658400-1543701600@mont-roig.cat
SUMMARY:Mercat de Nadal
DESCRIPTION:Diverses parades d’artesans i comerços locals oferiran tot tipus de productes nadalencs. \nPrograma Nadal 2018 Miami Platja \nPrograma Nadal 2018 Mont-roig
URL:https://mont-roig.cat/acte/mercat-de-nadal/
LOCATION:Plaça Tarragona\, Plaça Tarragona\, Miami Platja
CATEGORIES:Ajuntament,Impuls Econòmic i Ocupació
ATTACH;FMTTYPE=image/jpeg:https://mont-roig.cat/wp-content/uploads/MM_GENERIC_NADAL2018.jpeg
GEO:41.0097752;0.9391737
X-APPLE-STRUCTURED-LOCATION;VALUE=URI;X-ADDRESS=Plaça Tarragona Plaça Tarragona Miami Platja;X-APPLE-RADIUS=500;X-TITLE=Plaça Tarragona:geo:0.9391737,41.0097752
END:VEVENT
END:VCALENDAR