BEGIN:VCALENDAR
VERSION:2.0
PRODID:-//Ajuntament de Mont-roig del Camp - ECPv5.16.3.1//NONSGML v1.0//EN
CALSCALE:GREGORIAN
METHOD:PUBLISH
X-WR-CALNAME:Ajuntament de Mont-roig del Camp
X-ORIGINAL-URL:https://mont-roig.cat
X-WR-CALDESC:Esdeveniments per Ajuntament de Mont-roig del Camp
BEGIN:VTIMEZONE
TZID:Europe/Madrid
BEGIN:DAYLIGHT
TZOFFSETFROM:+0100
TZOFFSETTO:+0200
TZNAME:CEST
DTSTART:20170326T010000
END:DAYLIGHT
BEGIN:STANDARD
TZOFFSETFROM:+0200
TZOFFSETTO:+0100
TZNAME:CET
DTSTART:20171029T010000
END:STANDARD
END:VTIMEZONE
BEGIN:VEVENT
DTSTART;TZID=Europe/Madrid:20171203T100000
DTEND;TZID=Europe/Madrid:20171203T140000
DTSTAMP:20260421T230535
CREATED:20171201T124712Z
LAST-MODIFIED:20171201T125015Z
UID:23236-1512295200-1512309600@mont-roig.cat
SUMMARY:Mercat de Nadal a Miami Platja
DESCRIPTION:A la Plaça Tarragona de Miami Platja tindrà lloc el Mercat de Nadal d’artesania\, alimentació i que comptarà amb activitats infantils.
URL:https://mont-roig.cat/acte/mercat-nadal-miami-platja-3/
LOCATION:Plaça Tarragona\, Plaça Tarragona\, Miami Platja
CATEGORIES:Ajuntament
ATTACH;FMTTYPE=image/jpeg:https://mont-roig.cat/wp-content/uploads/cartell_mercat-nadal_01-002-1.jpg
GEO:41.0097752;0.9391737
X-APPLE-STRUCTURED-LOCATION;VALUE=URI;X-ADDRESS=Plaça Tarragona Plaça Tarragona Miami Platja;X-APPLE-RADIUS=500;X-TITLE=Plaça Tarragona:geo:0.9391737,41.0097752
END:VEVENT
END:VCALENDAR