BEGIN:VCALENDAR
VERSION:2.0
PRODID:-//Ajuntament de Mont-roig del Camp - ECPv5.16.3.1//NONSGML v1.0//EN
CALSCALE:GREGORIAN
METHOD:PUBLISH
X-WR-CALNAME:Ajuntament de Mont-roig del Camp
X-ORIGINAL-URL:https://mont-roig.cat
X-WR-CALDESC:Esdeveniments per Ajuntament de Mont-roig del Camp
BEGIN:VTIMEZONE
TZID:Europe/Madrid
BEGIN:DAYLIGHT
TZOFFSETFROM:+0100
TZOFFSETTO:+0200
TZNAME:CEST
DTSTART:20170326T010000
END:DAYLIGHT
BEGIN:STANDARD
TZOFFSETFROM:+0200
TZOFFSETTO:+0100
TZNAME:CET
DTSTART:20171029T010000
END:STANDARD
END:VTIMEZONE
BEGIN:VEVENT
DTSTART;TZID=Europe/Madrid:20170408T090000
DTEND;TZID=Europe/Madrid:20170408T140000
DTSTAMP:20260419T185358
CREATED:20170324T085118Z
LAST-MODIFIED:20170324T085118Z
UID:16042-1491642000-1491660000@mont-roig.cat
SUMMARY:Mercat Trastos fora
DESCRIPTION:Venda d’objectes usats o fets amb material reciclat\, en el marc de la campanya del foment del reciclatge\, reducció de residus i reutilització. \nUbicació:  C/ d’Aureli Escarré (davant del poliesportiu) de Mont-roig del Camp
URL:https://mont-roig.cat/acte/mercat-trastos-fora-10/
CATEGORIES:Ajuntament,Recollida residus
END:VEVENT
END:VCALENDAR