BEGIN:VCALENDAR
VERSION:2.0
PRODID:-//Ajuntament de Mont-roig del Camp - ECPv5.16.3.1//NONSGML v1.0//EN
CALSCALE:GREGORIAN
METHOD:PUBLISH
X-WR-CALNAME:Ajuntament de Mont-roig del Camp
X-ORIGINAL-URL:https://mont-roig.cat
X-WR-CALDESC:Esdeveniments per Ajuntament de Mont-roig del Camp
BEGIN:VTIMEZONE
TZID:Europe/Madrid
BEGIN:DAYLIGHT
TZOFFSETFROM:+0100
TZOFFSETTO:+0200
TZNAME:CEST
DTSTART:20180325T010000
END:DAYLIGHT
BEGIN:STANDARD
TZOFFSETFROM:+0200
TZOFFSETTO:+0100
TZNAME:CET
DTSTART:20181028T010000
END:STANDARD
END:VTIMEZONE
BEGIN:VEVENT
DTSTART;TZID=Europe/Madrid:20181117T150000
DTEND;TZID=Europe/Madrid:20181117T200000
DTSTAMP:20260420T200033
CREATED:20181102T084033Z
LAST-MODIFIED:20181107T092014Z
UID:31593-1542466800-1542484800@mont-roig.cat
SUMMARY:Mercat Trastos Fora.
DESCRIPTION:Campanya de Foment del reciclatge\, reducció de residus i reutilització.
URL:https://mont-roig.cat/acte/mercat-trastos-fora-4/
LOCATION:Carrer Sòria\, Carrer Sòria\, Miami Platja \, Tarragona \, 43892
CATEGORIES:Ajuntament,Recollida residus
ATTACH;FMTTYPE=image/jpeg:https://mont-roig.cat/wp-content/uploads/01-Cartell-trastos-fora-MIAMI-17-11-18-001.jpg
GEO:41.0033798;0.9285338
X-APPLE-STRUCTURED-LOCATION;VALUE=URI;X-ADDRESS=Carrer Sòria Carrer Sòria Miami Platja  Tarragona  43892;X-APPLE-RADIUS=500;X-TITLE=Carrer Sòria:geo:0.9285338,41.0033798
END:VEVENT
END:VCALENDAR