BEGIN:VCALENDAR
VERSION:2.0
PRODID:-//Ajuntament de Mont-roig del Camp - ECPv5.16.3.1//NONSGML v1.0//EN
CALSCALE:GREGORIAN
METHOD:PUBLISH
X-WR-CALNAME:Ajuntament de Mont-roig del Camp
X-ORIGINAL-URL:https://mont-roig.cat
X-WR-CALDESC:Esdeveniments per Ajuntament de Mont-roig del Camp
BEGIN:VTIMEZONE
TZID:Europe/Madrid
BEGIN:DAYLIGHT
TZOFFSETFROM:+0100
TZOFFSETTO:+0200
TZNAME:CEST
DTSTART:20170326T010000
END:DAYLIGHT
BEGIN:STANDARD
TZOFFSETFROM:+0200
TZOFFSETTO:+0100
TZNAME:CET
DTSTART:20171029T010000
END:STANDARD
END:VTIMEZONE
BEGIN:VEVENT
DTSTART;TZID=Europe/Madrid:20171014T150000
DTEND;TZID=Europe/Madrid:20171014T200000
DTSTAMP:20260421T131606
CREATED:20170817T113156Z
LAST-MODIFIED:20170817T113820Z
UID:21208-1507993200-1508011200@mont-roig.cat
SUMMARY:Mercat Trastos Fora a Miami Platja
DESCRIPTION:Venda d’objectes usats o fets amb material reciclat\, en el marc de la campanya del foment del reciclatge\, reducció de residus i reutilització. \nLa participació és gratuïta i oberta a tothom\, si us voleu inscriure\, només cal que envieu un correu electrònic a Miriam Alfanjarín (malfanjarin@mont-roig.com).
URL:https://mont-roig.cat/acte/mercat-trastos-fora-miami-platja-2/
LOCATION:Carrer Sòria\, Carrer Sòria\, Miami Platja \, Tarragona \, 43892
CATEGORIES:Ajuntament,Recollida residus
ATTACH;FMTTYPE=image/jpeg:https://mont-roig.cat/wp-content/uploads/14-octubre-miami.jpg
GEO:41.0033798;0.9285338
X-APPLE-STRUCTURED-LOCATION;VALUE=URI;X-ADDRESS=Carrer Sòria Carrer Sòria Miami Platja  Tarragona  43892;X-APPLE-RADIUS=500;X-TITLE=Carrer Sòria:geo:0.9285338,41.0033798
END:VEVENT
END:VCALENDAR