BEGIN:VCALENDAR
VERSION:2.0
PRODID:-//Ajuntament de Mont-roig del Camp - ECPv5.16.3.1//NONSGML v1.0//EN
CALSCALE:GREGORIAN
METHOD:PUBLISH
X-WR-CALNAME:Ajuntament de Mont-roig del Camp
X-ORIGINAL-URL:https://mont-roig.cat
X-WR-CALDESC:Esdeveniments per Ajuntament de Mont-roig del Camp
BEGIN:VTIMEZONE
TZID:Europe/Madrid
BEGIN:DAYLIGHT
TZOFFSETFROM:+0100
TZOFFSETTO:+0200
TZNAME:CEST
DTSTART:20180325T010000
END:DAYLIGHT
BEGIN:STANDARD
TZOFFSETFROM:+0200
TZOFFSETTO:+0100
TZNAME:CET
DTSTART:20181028T010000
END:STANDARD
END:VTIMEZONE
BEGIN:VEVENT
DTSTART;TZID=Europe/Madrid:20180217T080000
DTEND;TZID=Europe/Madrid:20180217T170000
DTSTAMP:20260421T032549
CREATED:20180118T164209Z
LAST-MODIFIED:20180118T165159Z
UID:24088-1518854400-1518886800@mont-roig.cat
SUMMARY:Mercat Trastos Fora a Mont-roig del Camp
DESCRIPTION:Venda d’objectes usats o fets amb material reciclat\, en el marc de la campanya del foment del reciclatge\, reducció de residus i reutilització. \nLa participació és gratuïta i oberta a tothom\, si us voleu inscriure\, només cal que envieu un correu electrònic a Miriam Alfanjarín (malfanjarin@mont-roig.com).
URL:https://mont-roig.cat/acte/mercat-trastos-fora-mont-roig-camp-4/
LOCATION:Plaça de Miramar de Mont-roig del Camp
CATEGORIES:Ajuntament,Recollida residus
ATTACH;FMTTYPE=image/jpeg:https://mont-roig.cat/wp-content/uploads/01-Cartell-trastos-fora-MONT-ROIG-17-02-18-001.jpg
END:VEVENT
END:VCALENDAR