BEGIN:VCALENDAR
VERSION:2.0
PRODID:-//Ajuntament de Mont-roig del Camp - ECPv5.16.3.1//NONSGML v1.0//EN
CALSCALE:GREGORIAN
METHOD:PUBLISH
X-WR-CALNAME:Ajuntament de Mont-roig del Camp
X-ORIGINAL-URL:https://mont-roig.cat
X-WR-CALDESC:Esdeveniments per Ajuntament de Mont-roig del Camp
BEGIN:VTIMEZONE
TZID:Europe/Madrid
BEGIN:DAYLIGHT
TZOFFSETFROM:+0100
TZOFFSETTO:+0200
TZNAME:CEST
DTSTART:20190331T010000
END:DAYLIGHT
BEGIN:STANDARD
TZOFFSETFROM:+0200
TZOFFSETTO:+0100
TZNAME:CET
DTSTART:20191027T010000
END:STANDARD
END:VTIMEZONE
BEGIN:VEVENT
DTSTART;TZID=Europe/Madrid:20190703T180000
DTEND;TZID=Europe/Madrid:20190703T210000
DTSTAMP:20260422T014600
CREATED:20190703T055112Z
LAST-MODIFIED:20190708T091216Z
UID:37537-1562176800-1562187600@mont-roig.cat
SUMMARY:Miró i Mont-roig
DESCRIPTION:Descobreix la relació de Joan Miró amb Mont-roig i les vinyes amb el nou format d’excursió guiada que et permetrà conèixer el Mas Miró\, el poble de Mont-roig i l’Ermita de la Mare de Déu de la Roca on hi acabaràs fent un tast de vins tot veient la posta de sol! \nIdiomes: Català\, castellà\, anglès\, francès i alemany \nPreu: 11 €  (+ 12 anys) / 5 € (8 -12 anys) \nMés informació i reserves: 977 810 978 – turisme@mont-roig.com
URL:https://mont-roig.cat/acte/miro-i-mont-roig-2/2019-07-03/
LOCATION:Plaça Tarragona\, Plaça Tarragona\, Miami Platja
ATTACH;FMTTYPE=image/jpeg:https://mont-roig.cat/wp-content/uploads/0C2A3315.jpg
GEO:41.0097752;0.9391737
X-APPLE-STRUCTURED-LOCATION;VALUE=URI;X-ADDRESS=Plaça Tarragona Plaça Tarragona Miami Platja;X-APPLE-RADIUS=500;X-TITLE=Plaça Tarragona:geo:0.9391737,41.0097752
END:VEVENT
END:VCALENDAR