BEGIN:VCALENDAR
VERSION:2.0
PRODID:-//Ajuntament de Mont-roig del Camp - ECPv5.16.3.1//NONSGML v1.0//EN
CALSCALE:GREGORIAN
METHOD:PUBLISH
X-WR-CALNAME:Ajuntament de Mont-roig del Camp
X-ORIGINAL-URL:https://mont-roig.cat
X-WR-CALDESC:Esdeveniments per Ajuntament de Mont-roig del Camp
BEGIN:VTIMEZONE
TZID:Europe/Madrid
BEGIN:DAYLIGHT
TZOFFSETFROM:+0100
TZOFFSETTO:+0200
TZNAME:CEST
DTSTART:20220327T010000
END:DAYLIGHT
BEGIN:STANDARD
TZOFFSETFROM:+0200
TZOFFSETTO:+0100
TZNAME:CET
DTSTART:20221030T010000
END:STANDARD
END:VTIMEZONE
BEGIN:VEVENT
DTSTART;TZID=Europe/Madrid:20221001T180000
DTEND;TZID=Europe/Madrid:20221001T200000
DTSTAMP:20260421T054546
CREATED:20220930T095511Z
LAST-MODIFIED:20220930T100027Z
UID:65703-1664647200-1664654400@mont-roig.cat
SUMMARY:"Miró\, Mont-roig\, el vi. Resseguint el crit de la terra”. Diàleg i tast de vins
DESCRIPTION:“Miró\, Mont-roig\, el vi. Resseguint el crit de la terra”. Diàleg i tast de vins a càrrec de Ruth Troyano Puig i de la directora de la Fundació Mas Miró\, Elena Juncosa Vecchierini.\n\n\n Notes\, paraules\, quadres i fragments d’història ens ajudaran a entendre com Miró va amarar-se de la vinya i el vi que van alimentar el dinamisme econòmic i social de Mont-roig del Camp durant els segles XIX i XX\, fins el punt que s’incrusten el seu paisatge emocional. Una oportunitat per conèixer com Miró habitava plenament el Mas\, amb el plaer de fer-ho amb una copa de vi de Cornudella.\n\n\nDissabte 1 octubre \, 18h\n\n\n Inscripció gratuïta. Cal fer reserva prèvia a info@masmiro.com
URL:https://mont-roig.cat/acte/miro-mont-roig-el-vi-resseguint-el-crit-de-la-terra-dialeg-i-tast-de-vins/
LOCATION:Mas Miró\, Mont-roig\, Tarragona\, 43300
CATEGORIES:Ajuntament,Fundació Mas Miró
ATTACH;FMTTYPE=image/jpeg:https://mont-roig.cat/wp-content/uploads/cartell-activitats-xarxes-1oct-scaled.jpg
END:VEVENT
END:VCALENDAR