BEGIN:VCALENDAR
VERSION:2.0
PRODID:-//Ajuntament de Mont-roig del Camp - ECPv5.16.3.1//NONSGML v1.0//EN
CALSCALE:GREGORIAN
METHOD:PUBLISH
X-WR-CALNAME:Ajuntament de Mont-roig del Camp
X-ORIGINAL-URL:https://mont-roig.cat
X-WR-CALDESC:Esdeveniments per Ajuntament de Mont-roig del Camp
BEGIN:VTIMEZONE
TZID:Europe/Madrid
BEGIN:DAYLIGHT
TZOFFSETFROM:+0100
TZOFFSETTO:+0200
TZNAME:CEST
DTSTART:20170326T010000
END:DAYLIGHT
BEGIN:STANDARD
TZOFFSETFROM:+0200
TZOFFSETTO:+0100
TZNAME:CET
DTSTART:20171029T010000
END:STANDARD
END:VTIMEZONE
BEGIN:VEVENT
DTSTART;TZID=Europe/Madrid:20170318T190000
DTEND;TZID=Europe/Madrid:20170318T203000
DTSTAMP:20260421T113816
CREATED:20170227T115724Z
LAST-MODIFIED:20170228T113733Z
UID:15576-1489863600-1489869000@mont-roig.cat
SUMMARY:Musical de "Gisela i el llibre màgic" per Sant Josep
DESCRIPTION:La coneguda cantant i actriu Gisela\, la veu de Disney al país\, oferirà un musical ambientat en el mon de les cançons i els contes infantils. \nLes entrades anticipades tenen un cost de 10 euros i de 12 euros en les taquilles del poliesportiu de Miami Platja el mateix dia.  \nEls tickets es poden adquirir de manera anticipada a l’oficina de Festes\, sala 1\, del Centre Polivalent de Miami Platja. \nTambé es poden comprar a través de la pàgina web Entradas Show. \nL’espectacle tindrà lloc al poliesportiu de Miami Platja a les 19 hores.
URL:https://mont-roig.cat/acte/musical-gisela-llibre-magic/
LOCATION:Poliesportiu de Miami Platja\, Badajoz\, 4\, Miami Platja
CATEGORIES:Ajuntament,Cultura,Festes
ATTACH;FMTTYPE=image/jpeg:https://mont-roig.cat/wp-content/uploads/GISELA-MIAMI-PLATJA-e1488281279385.jpg
GEO:41.00588;0.92511
X-APPLE-STRUCTURED-LOCATION;VALUE=URI;X-ADDRESS=Poliesportiu de Miami Platja Badajoz 4 Miami Platja;X-APPLE-RADIUS=500;X-TITLE=Badajoz\, 4:geo:0.92511,41.00588
END:VEVENT
END:VCALENDAR