BEGIN:VCALENDAR
VERSION:2.0
PRODID:-//Ajuntament de Mont-roig del Camp - ECPv5.16.3.1//NONSGML v1.0//EN
CALSCALE:GREGORIAN
METHOD:PUBLISH
X-WR-CALNAME:Ajuntament de Mont-roig del Camp
X-ORIGINAL-URL:https://mont-roig.cat
X-WR-CALDESC:Esdeveniments per Ajuntament de Mont-roig del Camp
BEGIN:VTIMEZONE
TZID:Europe/Madrid
BEGIN:DAYLIGHT
TZOFFSETFROM:+0100
TZOFFSETTO:+0200
TZNAME:CEST
DTSTART:20170326T010000
END:DAYLIGHT
BEGIN:STANDARD
TZOFFSETFROM:+0200
TZOFFSETTO:+0100
TZNAME:CET
DTSTART:20171029T010000
END:STANDARD
END:VTIMEZONE
BEGIN:VEVENT
DTSTART;TZID=Europe/Madrid:20171231T180000
DTEND;TZID=Europe/Madrid:20171231T200000
DTSTAMP:20260421T172158
CREATED:20171203T181539Z
LAST-MODIFIED:20171228T153117Z
UID:23328-1514743200-1514750400@mont-roig.cat
SUMMARY:Nadal a la carta + Home dels Nassos
DESCRIPTION:Espectacle de la companyia Souldance que ens farà ballar\, riure i descobrir la recepta per tenir unes bones festes nadalenques. Tot seguit donarem la benvinguda a l’entranyable Home dels Nassos.
URL:https://mont-roig.cat/acte/nadal-carta-home-dels-nassos/
LOCATION:k1
CATEGORIES:Ajuntament,Joventut
ATTACH;FMTTYPE=image/jpeg:https://mont-roig.cat/wp-content/uploads/nadal-mont-roig.jpg
END:VEVENT
END:VCALENDAR