BEGIN:VCALENDAR
VERSION:2.0
PRODID:-//Ajuntament de Mont-roig del Camp - ECPv5.16.3.1//NONSGML v1.0//EN
CALSCALE:GREGORIAN
METHOD:PUBLISH
X-WR-CALNAME:Ajuntament de Mont-roig del Camp
X-ORIGINAL-URL:https://mont-roig.cat
X-WR-CALDESC:Esdeveniments per Ajuntament de Mont-roig del Camp
BEGIN:VTIMEZONE
TZID:Europe/Madrid
BEGIN:DAYLIGHT
TZOFFSETFROM:+0100
TZOFFSETTO:+0200
TZNAME:CEST
DTSTART:20250330T010000
END:DAYLIGHT
BEGIN:STANDARD
TZOFFSETFROM:+0200
TZOFFSETTO:+0100
TZNAME:CET
DTSTART:20251026T010000
END:STANDARD
END:VTIMEZONE
BEGIN:VEVENT
DTSTART;TZID=Europe/Madrid:20250911T100000
DTEND;TZID=Europe/Madrid:20250911T130000
DTSTAMP:20260420T154119
CREATED:20250905T124447Z
LAST-MODIFIED:20250905T124606Z
UID:85366-1757584800-1757595600@mont-roig.cat
SUMMARY:Onze de Setembre. Dinada Nacional de Catalunya
DESCRIPTION:
URL:https://mont-roig.cat/acte/onze-de-setembre-dinada-nacional-de-catalunya/
LOCATION:Mont-roig i Miami
CATEGORIES:Ajuntament,Alcalde
ATTACH;FMTTYPE=image/jpeg:https://mont-roig.cat/wp-content/uploads/MM_cartell_11setembre25.jpg
END:VEVENT
END:VCALENDAR