BEGIN:VCALENDAR
VERSION:2.0
PRODID:-//Ajuntament de Mont-roig del Camp - ECPv5.16.3.1//NONSGML v1.0//EN
CALSCALE:GREGORIAN
METHOD:PUBLISH
X-WR-CALNAME:Ajuntament de Mont-roig del Camp
X-ORIGINAL-URL:https://mont-roig.cat
X-WR-CALDESC:Esdeveniments per Ajuntament de Mont-roig del Camp
BEGIN:VTIMEZONE
TZID:Europe/Madrid
BEGIN:DAYLIGHT
TZOFFSETFROM:+0100
TZOFFSETTO:+0200
TZNAME:CEST
DTSTART:20160327T010000
END:DAYLIGHT
BEGIN:STANDARD
TZOFFSETFROM:+0200
TZOFFSETTO:+0100
TZNAME:CET
DTSTART:20161030T010000
END:STANDARD
END:VTIMEZONE
BEGIN:VEVENT
DTSTART;TZID=Europe/Madrid:20161227T163000
DTEND;TZID=Europe/Madrid:20161227T193000
DTSTAMP:20260421T043555
CREATED:20161117T075809Z
LAST-MODIFIED:20161117T083224Z
UID:13652-1482856200-1482867000@mont-roig.cat
SUMMARY:Parc infantil de Nadal
DESCRIPTION:Activitats diverses per a la mainada. \nHi haurà servei de bus municipal. La sortida es farà a les 17h des de les oficines de l’Ajuntament de Miami Platja fins al Poliesportiu de Mont-roig del Camp. Tornada a les 19.30h. Aquestes seran les úniques parades. \nTambé hi haurà servei de bar. \nLes entitats participants són el grup de colònies “Els Brivalls” i l’Associació d’Armats de Mont-roig del Camp. \n 
URL:https://mont-roig.cat/acte/parc-infantil-nadal-3/
LOCATION:Poliesportiu de Mont-roig del Camp\, Carrer Aureli Maria Escarré\, 3\, Mont-roig del Camp\, Tarragona\, 43300\, Spain
CATEGORIES:Ajuntament
GEO:41.0865513;0.9606138
X-APPLE-STRUCTURED-LOCATION;VALUE=URI;X-ADDRESS=Poliesportiu de Mont-roig del Camp Carrer Aureli Maria Escarré 3 Mont-roig del Camp Tarragona 43300 Spain;X-APPLE-RADIUS=500;X-TITLE=Carrer Aureli Maria Escarré\, 3:geo:0.9606138,41.0865513
END:VEVENT
END:VCALENDAR