BEGIN:VCALENDAR
VERSION:2.0
PRODID:-//Ajuntament de Mont-roig del Camp - ECPv5.16.3.1//NONSGML v1.0//EN
CALSCALE:GREGORIAN
METHOD:PUBLISH
X-WR-CALNAME:Ajuntament de Mont-roig del Camp
X-ORIGINAL-URL:https://mont-roig.cat
X-WR-CALDESC:Esdeveniments per Ajuntament de Mont-roig del Camp
BEGIN:VTIMEZONE
TZID:Europe/Madrid
BEGIN:DAYLIGHT
TZOFFSETFROM:+0100
TZOFFSETTO:+0200
TZNAME:CEST
DTSTART:20220327T010000
END:DAYLIGHT
BEGIN:STANDARD
TZOFFSETFROM:+0200
TZOFFSETTO:+0100
TZNAME:CET
DTSTART:20221030T010000
END:STANDARD
END:VTIMEZONE
BEGIN:VEVENT
DTSTART;TZID=Europe/Madrid:20221021T180000
DTEND;TZID=Europe/Madrid:20221023T213000
DTSTAMP:20260423T213554
CREATED:20221017T063006Z
LAST-MODIFIED:20221017T063006Z
UID:66037-1666375200-1666560600@mont-roig.cat
SUMMARY:Passatge del Terror
DESCRIPTION:Com cada tardor torna el Passatge del Terror\, una de les principals activitats del programa Pànic del Departament de Joventut.
URL:https://mont-roig.cat/acte/passatge-del-terror-5/
CATEGORIES:Joventut
ATTACH;FMTTYPE=image/png:https://mont-roig.cat/wp-content/uploads/passatge-terror.png
END:VEVENT
END:VCALENDAR