BEGIN:VCALENDAR
VERSION:2.0
PRODID:-//Ajuntament de Mont-roig del Camp - ECPv5.16.3.1//NONSGML v1.0//EN
CALSCALE:GREGORIAN
METHOD:PUBLISH
X-WR-CALNAME:Ajuntament de Mont-roig del Camp
X-ORIGINAL-URL:https://mont-roig.cat
X-WR-CALDESC:Esdeveniments per Ajuntament de Mont-roig del Camp
BEGIN:VTIMEZONE
TZID:Europe/Madrid
BEGIN:DAYLIGHT
TZOFFSETFROM:+0100
TZOFFSETTO:+0200
TZNAME:CEST
DTSTART:20170326T010000
END:DAYLIGHT
BEGIN:STANDARD
TZOFFSETFROM:+0200
TZOFFSETTO:+0100
TZNAME:CET
DTSTART:20171029T010000
END:STANDARD
END:VTIMEZONE
BEGIN:VEVENT
DTSTART;TZID=Europe/Madrid:20171215T170000
DTEND;TZID=Europe/Madrid:20171215T170000
DTSTAMP:20260420T120444
CREATED:20171201T184706Z
LAST-MODIFIED:20171201T184706Z
UID:23260-1513357200-1513357200@mont-roig.cat
SUMMARY:El pessebre de l'Associació Pessebrista
DESCRIPTION:Vine a descobrir aquest pessebre de grans dimensions. Es podrà visitar els dies 16\, 17\, 22\, 23\, 26\, 27\, 28\, 29 i 30 de desembre i 1\, 2\, 3 i 4 de gener de 18.00 a 20.00 h. El 24 de desembre\, de 12.00 a 14.00 h i de 18.00 a 20.00 h. El 31 de desembre\, de 12.00 a 14.00 h. \nORGANITZA: Associació Pessebrista de Mont-roig del Camp
URL:https://mont-roig.cat/acte/pessebre-lassociacio-pessebrista/2017-12-15/
LOCATION:Local de la Ràdio
END:VEVENT
END:VCALENDAR