BEGIN:VCALENDAR
VERSION:2.0
PRODID:-//Ajuntament de Mont-roig del Camp - ECPv5.16.3.1//NONSGML v1.0//EN
CALSCALE:GREGORIAN
METHOD:PUBLISH
X-WR-CALNAME:Ajuntament de Mont-roig del Camp
X-ORIGINAL-URL:https://mont-roig.cat
X-WR-CALDESC:Esdeveniments per Ajuntament de Mont-roig del Camp
BEGIN:VTIMEZONE
TZID:Europe/Madrid
BEGIN:DAYLIGHT
TZOFFSETFROM:+0100
TZOFFSETTO:+0200
TZNAME:CEST
DTSTART:20180325T010000
END:DAYLIGHT
BEGIN:STANDARD
TZOFFSETFROM:+0200
TZOFFSETTO:+0100
TZNAME:CET
DTSTART:20181028T010000
END:STANDARD
END:VTIMEZONE
BEGIN:VEVENT
DTSTART;TZID=Europe/Madrid:20180101T180000
DTEND;TZID=Europe/Madrid:20180101T210000
DTSTAMP:20260420T003018
CREATED:20171206T214223Z
LAST-MODIFIED:20171206T214223Z
UID:23377-1514829600-1514840400@mont-roig.cat
SUMMARY:Pessebre Vivent + Carta als Reis
DESCRIPTION:Els alumnes de 6è de primària de l’Escola Mare de Déu de la Roca realitzaran el pessebre vivent. Durant la tarda hi haurà també els emissaris de SES Majestats els Reis Mags d’Orient que recolliran les cartes dels nens i nenes. \nORGANITZA: Alumnes de 6è de l’Escola Mare de Déu de la Roca \nCOL·LABORA: Ajuntament de Mont-roig del Camp / Kintus 2017
URL:https://mont-roig.cat/acte/pessebre-vivent-carta-als-reis-2/
LOCATION:Rentadors
END:VEVENT
END:VCALENDAR