BEGIN:VCALENDAR
VERSION:2.0
PRODID:-//Ajuntament de Mont-roig del Camp - ECPv5.16.3.1//NONSGML v1.0//EN
CALSCALE:GREGORIAN
METHOD:PUBLISH
X-WR-CALNAME:Ajuntament de Mont-roig del Camp
X-ORIGINAL-URL:https://mont-roig.cat
X-WR-CALDESC:Esdeveniments per Ajuntament de Mont-roig del Camp
BEGIN:VTIMEZONE
TZID:Europe/Madrid
BEGIN:DAYLIGHT
TZOFFSETFROM:+0100
TZOFFSETTO:+0200
TZNAME:CEST
DTSTART:20180325T010000
END:DAYLIGHT
BEGIN:STANDARD
TZOFFSETFROM:+0200
TZOFFSETTO:+0100
TZNAME:CET
DTSTART:20181028T010000
END:STANDARD
END:VTIMEZONE
BEGIN:VEVENT
DTSTART;TZID=Europe/Madrid:20181226T180000
DTEND;TZID=Europe/Madrid:20181226T200000
DTSTAMP:20260423T080453
CREATED:20181126T074212Z
LAST-MODIFIED:20181126T074212Z
UID:32472-1545847200-1545854400@mont-roig.cat
SUMMARY:Pessebre vivent i Tió Popular
DESCRIPTION:Els alumnes de 6è de primària de l’Escola Mare de Déu de la Roca realitzaran el pessebre vivent. Durant la tarda els nens i nenes també podran fer cagar el tió. Organitza: Alumnes de 6è de primària de l’Escola Mare de Déu de la Roca. \nPrograma Nadal 2018 Miami Platja \nPrograma Nadal 2018 Mont-roig
URL:https://mont-roig.cat/acte/pessebre-vivent-i-tio-popular/
LOCATION:Rentadors
CATEGORIES:Ajuntament,Festes
ATTACH;FMTTYPE=image/jpeg:https://mont-roig.cat/wp-content/uploads/MM_GENERIC_NADAL2018.jpeg
END:VEVENT
END:VCALENDAR