BEGIN:VCALENDAR
VERSION:2.0
PRODID:-//Ajuntament de Mont-roig del Camp - ECPv5.16.3.1//NONSGML v1.0//EN
CALSCALE:GREGORIAN
METHOD:PUBLISH
X-WR-CALNAME:Ajuntament de Mont-roig del Camp
X-ORIGINAL-URL:https://mont-roig.cat
X-WR-CALDESC:Esdeveniments per Ajuntament de Mont-roig del Camp
BEGIN:VTIMEZONE
TZID:Europe/Madrid
BEGIN:DAYLIGHT
TZOFFSETFROM:+0100
TZOFFSETTO:+0200
TZNAME:CEST
DTSTART:20230326T010000
END:DAYLIGHT
BEGIN:STANDARD
TZOFFSETFROM:+0200
TZOFFSETTO:+0100
TZNAME:CET
DTSTART:20231029T010000
END:STANDARD
END:VTIMEZONE
BEGIN:VEVENT
DTSTART;TZID=Europe/Madrid:20230730T190000
DTEND;TZID=Europe/Madrid:20230730T203000
DTSTAMP:20260421T164155
CREATED:20230711T121855Z
LAST-MODIFIED:20230711T121855Z
UID:71332-1690743600-1690749000@mont-roig.cat
SUMMARY:Petit Sons de Nit amb Matito
DESCRIPTION:
URL:https://mont-roig.cat/acte/petit-sons-de-nit-amb-matito/
LOCATION:Ermita Mare de Déu de la Roca
CATEGORIES:Ajuntament,Cultura
ATTACH;FMTTYPE=image/png:https://mont-roig.cat/wp-content/uploads/son_nit_23.png
END:VEVENT
END:VCALENDAR