BEGIN:VCALENDAR
VERSION:2.0
PRODID:-//Ajuntament de Mont-roig del Camp - ECPv5.16.3.1//NONSGML v1.0//EN
CALSCALE:GREGORIAN
METHOD:PUBLISH
X-WR-CALNAME:Ajuntament de Mont-roig del Camp
X-ORIGINAL-URL:https://mont-roig.cat
X-WR-CALDESC:Esdeveniments per Ajuntament de Mont-roig del Camp
BEGIN:VTIMEZONE
TZID:Europe/Madrid
BEGIN:DAYLIGHT
TZOFFSETFROM:+0100
TZOFFSETTO:+0200
TZNAME:CEST
DTSTART:20190331T010000
END:DAYLIGHT
BEGIN:STANDARD
TZOFFSETFROM:+0200
TZOFFSETTO:+0100
TZNAME:CET
DTSTART:20191027T010000
END:STANDARD
END:VTIMEZONE
BEGIN:VEVENT
DTSTART;TZID=Europe/Madrid:20190821T180000
DTEND;TZID=Europe/Madrid:20190821T200000
DTSTAMP:20260420T083010
CREATED:20190813T092946Z
LAST-MODIFIED:20190819T102907Z
UID:38570-1566410400-1566417600@mont-roig.cat
SUMMARY:Photo Hunter K2
DESCRIPTION:Rapidesa\, agilitat i un telèfon mòbil és tot el que necessitaràs per fer aquesta gimcana diferent i divertida.
URL:https://mont-roig.cat/acte/photo-hunter-k2/
LOCATION:Casal de Joves K2\, Carrer Granada\, 48\, Miami Platja
CATEGORIES:Joventut
ATTACH;FMTTYPE=image/png:https://mont-roig.cat/wp-content/uploads/PHOTO-HUNTER-mp.png
GEO:41.00419;0.92892
X-APPLE-STRUCTURED-LOCATION;VALUE=URI;X-ADDRESS=Casal de Joves K2 Carrer Granada 48 Miami Platja;X-APPLE-RADIUS=500;X-TITLE=Carrer Granada\, 48:geo:0.92892,41.00419
END:VEVENT
END:VCALENDAR