BEGIN:VCALENDAR
VERSION:2.0
PRODID:-//Ajuntament de Mont-roig del Camp - ECPv5.16.3.1//NONSGML v1.0//EN
CALSCALE:GREGORIAN
METHOD:PUBLISH
X-WR-CALNAME:Ajuntament de Mont-roig del Camp
X-ORIGINAL-URL:https://mont-roig.cat
X-WR-CALDESC:Esdeveniments per Ajuntament de Mont-roig del Camp
BEGIN:VTIMEZONE
TZID:Europe/Madrid
BEGIN:DAYLIGHT
TZOFFSETFROM:+0100
TZOFFSETTO:+0200
TZNAME:CEST
DTSTART:20210328T010000
END:DAYLIGHT
BEGIN:STANDARD
TZOFFSETFROM:+0200
TZOFFSETTO:+0100
TZNAME:CET
DTSTART:20211031T010000
END:STANDARD
END:VTIMEZONE
BEGIN:VEVENT
DTSTART;TZID=Europe/Madrid:20210414T130000
DTEND;TZID=Europe/Madrid:20210414T150000
DTSTAMP:20260421T161814
CREATED:20210412T102630Z
LAST-MODIFIED:20210412T102630Z
UID:54797-1618405200-1618412400@mont-roig.cat
SUMMARY:Ple Ordinari de l'Ajuntament de Mont-roig del Camp
DESCRIPTION:L’Ajuntament de Mont-roig del Camp celebrarà un nou Ple Ordinari aquest dimecres 14 d’abril a les 13 h. La sessió serà\, de nou\, telemàtica i es pot seguir a través del canal de YouTube de l’Ajuntament.\n\n\n\n\n\n\n\n\nPodeu consultar l’ordre del dia AQUÍ
URL:https://mont-roig.cat/acte/ple-ordinari-de-lajuntament-de-mont-roig-del-camp/
CATEGORIES:Ajuntament
END:VEVENT
END:VCALENDAR