BEGIN:VCALENDAR
VERSION:2.0
PRODID:-//Ajuntament de Mont-roig del Camp - ECPv5.16.3.1//NONSGML v1.0//EN
CALSCALE:GREGORIAN
METHOD:PUBLISH
X-WR-CALNAME:Ajuntament de Mont-roig del Camp
X-ORIGINAL-URL:https://mont-roig.cat
X-WR-CALDESC:Esdeveniments per Ajuntament de Mont-roig del Camp
BEGIN:VTIMEZONE
TZID:Europe/Madrid
BEGIN:DAYLIGHT
TZOFFSETFROM:+0100
TZOFFSETTO:+0200
TZNAME:CEST
DTSTART:20190331T010000
END:DAYLIGHT
BEGIN:STANDARD
TZOFFSETFROM:+0200
TZOFFSETTO:+0100
TZNAME:CET
DTSTART:20191027T010000
END:STANDARD
END:VTIMEZONE
BEGIN:VEVENT
DTSTART;TZID=Europe/Madrid:20190315T100000
DTEND;TZID=Europe/Madrid:20190315T140000
DTSTAMP:20260423T012701
CREATED:20190227T105155Z
LAST-MODIFIED:20190227T105155Z
UID:34709-1552644000-1552658400@mont-roig.cat
SUMMARY:Renovació del DNI a Miami Platja
DESCRIPTION:Us informem que agents de la Policia Nacional vindran a Miami Platja el proper dia 13 de març per renovar el DNI. El dia 15 els ciutadans podran tornar a passar per recollir. Es recomana passar per les oficines municipals de #Miamiplatja per reservar hora per renovar el DNI o fer-ho trucant al 977 170 440 .
URL:https://mont-roig.cat/acte/renovacio-del-dni-a-miami-platja-3/
LOCATION:Oficines Municipals Miami Platja
CATEGORIES:Ajuntament
ATTACH;FMTTYPE=image/jpeg:https://mont-roig.cat/wp-content/uploads/dni_imatge-1-1.jpg
END:VEVENT
END:VCALENDAR