BEGIN:VCALENDAR
VERSION:2.0
PRODID:-//Ajuntament de Mont-roig del Camp - ECPv5.16.3.1//NONSGML v1.0//EN
CALSCALE:GREGORIAN
METHOD:PUBLISH
X-WR-CALNAME:Ajuntament de Mont-roig del Camp
X-ORIGINAL-URL:https://mont-roig.cat
X-WR-CALDESC:Esdeveniments per Ajuntament de Mont-roig del Camp
BEGIN:VTIMEZONE
TZID:Europe/Madrid
BEGIN:DAYLIGHT
TZOFFSETFROM:+0100
TZOFFSETTO:+0200
TZNAME:CEST
DTSTART:20260329T010000
END:DAYLIGHT
BEGIN:STANDARD
TZOFFSETFROM:+0200
TZOFFSETTO:+0100
TZNAME:CET
DTSTART:20261025T010000
END:STANDARD
END:VTIMEZONE
BEGIN:VEVENT
DTSTART;TZID=Europe/Madrid:20260217T200000
DTEND;TZID=Europe/Madrid:20260217T223000
DTSTAMP:20260420T110632
CREATED:20260205T075628Z
LAST-MODIFIED:20260205T075628Z
UID:88650-1771358400-1771367400@mont-roig.cat
SUMMARY:Sardinada popular
DESCRIPTION:Mont-roig del Camp \n\n20 h – Pàrquing de la Casa de Cultura\nInscripcions: Gratuït
URL:https://mont-roig.cat/acte/sardinada-popular/
LOCATION:Aparcament Casa de Cultura
CATEGORIES:Ajuntament,Festes
ATTACH;FMTTYPE=image/jpeg:https://mont-roig.cat/wp-content/uploads/Carnaval-Mont-roig.jpg
END:VEVENT
END:VCALENDAR