BEGIN:VCALENDAR
VERSION:2.0
PRODID:-//Ajuntament de Mont-roig del Camp - ECPv5.16.3.1//NONSGML v1.0//EN
CALSCALE:GREGORIAN
METHOD:PUBLISH
X-WR-CALNAME:Ajuntament de Mont-roig del Camp
X-ORIGINAL-URL:https://mont-roig.cat
X-WR-CALDESC:Esdeveniments per Ajuntament de Mont-roig del Camp
BEGIN:VTIMEZONE
TZID:Europe/Madrid
BEGIN:DAYLIGHT
TZOFFSETFROM:+0100
TZOFFSETTO:+0200
TZNAME:CEST
DTSTART:20200329T010000
END:DAYLIGHT
BEGIN:STANDARD
TZOFFSETFROM:+0200
TZOFFSETTO:+0100
TZNAME:CET
DTSTART:20201025T010000
END:STANDARD
END:VTIMEZONE
BEGIN:VEVENT
DTSTART;TZID=Europe/Madrid:20201126T180000
DTEND;TZID=Europe/Madrid:20201126T190000
DTSTAMP:20260420T025436
CREATED:20201120T110419Z
LAST-MODIFIED:20201120T110419Z
UID:52624-1606413600-1606417200@mont-roig.cat
SUMMARY:Sessió virtual informativa “Reduir i compostar\, tot és començar”
DESCRIPTION:Sabies que el 40% de la brossa són residus que es poden compostar? El compostatge permet poder valoritzar la matèria orgànica que generem a casa i obtenir adob a partir d’aquests residus (restes de fruita\, restes vegetals del jardí\, peix\, carn\, etc.). \nVols saber com pots fer-ho? Et convidem a la sessió virtual informativa “Reduir i compostar\, tot és començar”el proper dijous 26 de novembre a les 18.00h. Hi podràs accedir a través d’aquest link: https://meet.jit.si/AutocompostatgeMont-roigdelCamp
URL:https://mont-roig.cat/acte/sessio-virtual-informativa-reduir-i-compostar-tot-es-comencar/
END:VEVENT
END:VCALENDAR