BEGIN:VCALENDAR
VERSION:2.0
PRODID:-//Ajuntament de Mont-roig del Camp - ECPv5.16.3.1//NONSGML v1.0//EN
CALSCALE:GREGORIAN
METHOD:PUBLISH
X-WR-CALNAME:Ajuntament de Mont-roig del Camp
X-ORIGINAL-URL:https://mont-roig.cat
X-WR-CALDESC:Esdeveniments per Ajuntament de Mont-roig del Camp
BEGIN:VTIMEZONE
TZID:Europe/Madrid
BEGIN:DAYLIGHT
TZOFFSETFROM:+0100
TZOFFSETTO:+0200
TZNAME:CEST
DTSTART:20190331T010000
END:DAYLIGHT
BEGIN:STANDARD
TZOFFSETFROM:+0200
TZOFFSETTO:+0100
TZNAME:CET
DTSTART:20191027T010000
END:STANDARD
END:VTIMEZONE
BEGIN:VEVENT
DTSTART;TZID=Europe/Madrid:20190810T100000
DTEND;TZID=Europe/Madrid:20190810T230000
DTSTAMP:20260419T214548
CREATED:20190730T072832Z
LAST-MODIFIED:20190730T072832Z
UID:38259-1565431200-1565478000@mont-roig.cat
SUMMARY:Shopping Night
DESCRIPTION:Comerços i establiments oberts fins a les 23 h\, obsequis i animació musical amb la Bandarra Street Orkestra.
URL:https://mont-roig.cat/acte/shopping-night/
LOCATION:Avinguda Barcelona\, Avinguda Barcelona\, Miami Platja 
CATEGORIES:Ajuntament,Impuls Econòmic i Ocupació
ATTACH;FMTTYPE=image/jpeg:https://mont-roig.cat/wp-content/uploads/shoppingnight10agost_page-0001.jpg
GEO:41.009761;0.9396429
X-APPLE-STRUCTURED-LOCATION;VALUE=URI;X-ADDRESS=Avinguda Barcelona Avinguda Barcelona Miami Platja;X-APPLE-RADIUS=500;X-TITLE=Avinguda Barcelona:geo:0.9396429,41.009761
END:VEVENT
END:VCALENDAR