BEGIN:VCALENDAR
VERSION:2.0
PRODID:-//Ajuntament de Mont-roig del Camp - ECPv5.16.3.1//NONSGML v1.0//EN
CALSCALE:GREGORIAN
METHOD:PUBLISH
X-WR-CALNAME:Ajuntament de Mont-roig del Camp
X-ORIGINAL-URL:https://mont-roig.cat
X-WR-CALDESC:Esdeveniments per Ajuntament de Mont-roig del Camp
BEGIN:VTIMEZONE
TZID:Europe/Madrid
BEGIN:DAYLIGHT
TZOFFSETFROM:+0100
TZOFFSETTO:+0200
TZNAME:CEST
DTSTART:20210328T010000
END:DAYLIGHT
BEGIN:STANDARD
TZOFFSETFROM:+0200
TZOFFSETTO:+0100
TZNAME:CET
DTSTART:20211031T010000
END:STANDARD
END:VTIMEZONE
BEGIN:VEVENT
DTSTART;TZID=Europe/Madrid:20210309T183000
DTEND;TZID=Europe/Madrid:20210309T200000
DTSTAMP:20260421T182402
CREATED:20210302T132500Z
LAST-MODIFIED:20210302T132500Z
UID:54103-1615314600-1615320000@mont-roig.cat
SUMMARY:Taller "Com és el meu sòl pelvià?"
DESCRIPTION:Dintre de la programació especial del Dia Internacional de la Dona 8M\, es realitzarà el taller per dones Com és el meu sòl pelvià?\, a càrrec de la fisioterapeuta d’Itxaso Galdós Barreras. \nTaller teòric i pràctic dirigit a dones de totes les edats per a conèixer aquesta part del cos plena de mites i tabús. \nDies 9 i 16 de març de 18.30 h a les 20 h\, a través de la plataforma Zoom \nCal inscripció prèvia a cultura@mont-roig.cat
URL:https://mont-roig.cat/acte/taller-com-es-el-meu-sol-pelvia/
CATEGORIES:Cultura
END:VEVENT
END:VCALENDAR