BEGIN:VCALENDAR
VERSION:2.0
PRODID:-//Ajuntament de Mont-roig del Camp - ECPv5.16.3.1//NONSGML v1.0//EN
CALSCALE:GREGORIAN
METHOD:PUBLISH
X-WR-CALNAME:Ajuntament de Mont-roig del Camp
X-ORIGINAL-URL:https://mont-roig.cat
X-WR-CALDESC:Esdeveniments per Ajuntament de Mont-roig del Camp
BEGIN:VTIMEZONE
TZID:Europe/Madrid
BEGIN:DAYLIGHT
TZOFFSETFROM:+0100
TZOFFSETTO:+0200
TZNAME:CEST
DTSTART:20200329T010000
END:DAYLIGHT
BEGIN:STANDARD
TZOFFSETFROM:+0200
TZOFFSETTO:+0100
TZNAME:CET
DTSTART:20201025T010000
END:STANDARD
END:VTIMEZONE
BEGIN:VEVENT
DTSTART;TZID=Europe/Madrid:20201124T180000
DTEND;TZID=Europe/Madrid:20201124T200000
DTSTAMP:20260420T002909
CREATED:20201119T130029Z
LAST-MODIFIED:20201119T130029Z
UID:52583-1606240800-1606248000@mont-roig.cat
SUMMARY:Taller de Risoteràpia
DESCRIPTION:Programació especial en commemoració del 25 de novembre\, dia internacional de l’eliminació de la violència envers les dones \nTaller de Risoteràpia\, a càrrec de la pallasa Marta Renyer\, dirigit a dones de totes les edats. \nHora: de 18.00 a 20.00 h. \nLa sessió es realitzarà a través de la plataforma Zoom. \nActivitat gratuïta amb inscripció prèvia abans del 22 de novembre a cultura@mont-roig.cat
URL:https://mont-roig.cat/acte/taller-de-risoterapia-3/
END:VEVENT
END:VCALENDAR