BEGIN:VCALENDAR
VERSION:2.0
PRODID:-//Ajuntament de Mont-roig del Camp - ECPv5.16.3.1//NONSGML v1.0//EN
CALSCALE:GREGORIAN
METHOD:PUBLISH
X-WR-CALNAME:Ajuntament de Mont-roig del Camp
X-ORIGINAL-URL:https://mont-roig.cat
X-WR-CALDESC:Esdeveniments per Ajuntament de Mont-roig del Camp
BEGIN:VTIMEZONE
TZID:Europe/Madrid
BEGIN:DAYLIGHT
TZOFFSETFROM:+0100
TZOFFSETTO:+0200
TZNAME:CEST
DTSTART:20180325T010000
END:DAYLIGHT
BEGIN:STANDARD
TZOFFSETFROM:+0200
TZOFFSETTO:+0100
TZNAME:CET
DTSTART:20181028T010000
END:STANDARD
END:VTIMEZONE
BEGIN:VEVENT
DTSTART;TZID=Europe/Madrid:20181025T190000
DTEND;TZID=Europe/Madrid:20181025T213000
DTSTAMP:20260422T055542
CREATED:20181009T175400Z
LAST-MODIFIED:20181023T093041Z
UID:30974-1540494000-1540503000@mont-roig.cat
SUMMARY:Taller 'facebook per a empreses'
DESCRIPTION:Facebook per a empreses. \nTransmetre imatges de marca i valors empresarials aprenent les eines i tècniques per fer publicacions efectives.
URL:https://mont-roig.cat/acte/taller-facebook-per-a-empreses/
LOCATION:Centre de Treball Compartit l’Espai\, Av. de Màlaga\, 32\, Miami Platja
CATEGORIES:Ajuntament,Impuls Econòmic i Ocupació
GEO:41.0035903;0.9290676
X-APPLE-STRUCTURED-LOCATION;VALUE=URI;X-ADDRESS=Centre de Treball Compartit l’Espai Av. de Màlaga 32 Miami Platja;X-APPLE-RADIUS=500;X-TITLE=Av. de Màlaga\, 32:geo:0.9290676,41.0035903
END:VEVENT
END:VCALENDAR