BEGIN:VCALENDAR
VERSION:2.0
PRODID:-//Ajuntament de Mont-roig del Camp - ECPv5.16.3.1//NONSGML v1.0//EN
CALSCALE:GREGORIAN
METHOD:PUBLISH
X-WR-CALNAME:Ajuntament de Mont-roig del Camp
X-ORIGINAL-URL:https://mont-roig.cat
X-WR-CALDESC:Esdeveniments per Ajuntament de Mont-roig del Camp
BEGIN:VTIMEZONE
TZID:Europe/Madrid
BEGIN:DAYLIGHT
TZOFFSETFROM:+0100
TZOFFSETTO:+0200
TZNAME:CEST
DTSTART:20220327T010000
END:DAYLIGHT
BEGIN:STANDARD
TZOFFSETFROM:+0200
TZOFFSETTO:+0100
TZNAME:CET
DTSTART:20221030T010000
END:STANDARD
END:VTIMEZONE
BEGIN:VEVENT
DTSTART;TZID=Europe/Madrid:20221123T173000
DTEND;TZID=Europe/Madrid:20221123T193000
DTSTAMP:20260422T105727
CREATED:20221117T061948Z
LAST-MODIFIED:20221117T061948Z
UID:66656-1669224600-1669231800@mont-roig.cat
SUMMARY:Taller reciclatge pots de vidre
DESCRIPTION:
URL:https://mont-roig.cat/acte/taller-reciclatge-pots-de-vidre/
LOCATION:Centre Polivalent Sant Jaume\, Carrer de Sòria\, 18\, Miami Platja\, Tarragona\, 43892\, Spain
CATEGORIES:Ajuntament,Joventut,Recollida residus
ATTACH;FMTTYPE=image/jpeg:https://mont-roig.cat/wp-content/uploads/RECICLEM-POTS-CARTELL-scaled.jpg
END:VEVENT
END:VCALENDAR