BEGIN:VCALENDAR
VERSION:2.0
PRODID:-//Ajuntament de Mont-roig del Camp - ECPv5.16.3.1//NONSGML v1.0//EN
CALSCALE:GREGORIAN
METHOD:PUBLISH
X-WR-CALNAME:Ajuntament de Mont-roig del Camp
X-ORIGINAL-URL:https://mont-roig.cat
X-WR-CALDESC:Esdeveniments per Ajuntament de Mont-roig del Camp
BEGIN:VTIMEZONE
TZID:Europe/Madrid
BEGIN:DAYLIGHT
TZOFFSETFROM:+0100
TZOFFSETTO:+0200
TZNAME:CEST
DTSTART:20230326T010000
END:DAYLIGHT
BEGIN:STANDARD
TZOFFSETFROM:+0200
TZOFFSETTO:+0100
TZNAME:CET
DTSTART:20231029T010000
END:STANDARD
END:VTIMEZONE
BEGIN:VEVENT
DTSTART;TZID=Europe/Madrid:20231001T190000
DTEND;TZID=Europe/Madrid:20231001T210000
DTSTAMP:20260420T032242
CREATED:20230831T102332Z
LAST-MODIFIED:20230831T102507Z
UID:72027-1696186800-1696194000@mont-roig.cat
SUMMARY:Teatre de festa major amb 'Cunyades'
DESCRIPTION:Teatre de Festa Major de Sant Miquel amb la comedia d’embolics ‘Cunyades’
URL:https://mont-roig.cat/acte/teatre-de-festa-major-amb-cunyades/
LOCATION:Carpa Festa Major
ATTACH;FMTTYPE=image/jpeg:https://mont-roig.cat/wp-content/uploads/Cunyades-1.jpeg
END:VEVENT
END:VCALENDAR