BEGIN:VCALENDAR
VERSION:2.0
PRODID:-//Ajuntament de Mont-roig del Camp - ECPv5.16.3.1//NONSGML v1.0//EN
CALSCALE:GREGORIAN
METHOD:PUBLISH
X-WR-CALNAME:Ajuntament de Mont-roig del Camp
X-ORIGINAL-URL:https://mont-roig.cat
X-WR-CALDESC:Esdeveniments per Ajuntament de Mont-roig del Camp
BEGIN:VTIMEZONE
TZID:Europe/Madrid
BEGIN:DAYLIGHT
TZOFFSETFROM:+0100
TZOFFSETTO:+0200
TZNAME:CEST
DTSTART:20190331T010000
END:DAYLIGHT
BEGIN:STANDARD
TZOFFSETFROM:+0200
TZOFFSETTO:+0100
TZNAME:CET
DTSTART:20191027T010000
END:STANDARD
END:VTIMEZONE
BEGIN:VEVENT
DTSTART;VALUE=DATE:20190821
DTEND;VALUE=DATE:20190822
DTSTAMP:20260422T020902
CREATED:20190730T074256Z
LAST-MODIFIED:20190730T074256Z
UID:38269-1566345600-1566431999@mont-roig.cat
SUMMARY:TOK’L2 Aquòpolis
DESCRIPTION:Gaudeix de la sortida del mes d’agost de Tok’l2 al parc aquàtic Aquopolis La Pineda. Preu 22\,00€ bus + entrada. Places limitades \n 
URL:https://mont-roig.cat/acte/tokl2-aquopolis/
LOCATION:Aquopolis La Pineda
CATEGORIES:Ajuntament,Joventut
ATTACH;FMTTYPE=image/png:https://mont-roig.cat/wp-content/uploads/AQUOPOLIS.png
END:VEVENT
END:VCALENDAR