BEGIN:VCALENDAR
VERSION:2.0
PRODID:-//Ajuntament de Mont-roig del Camp - ECPv5.16.3.1//NONSGML v1.0//EN
CALSCALE:GREGORIAN
METHOD:PUBLISH
X-WR-CALNAME:Ajuntament de Mont-roig del Camp
X-ORIGINAL-URL:https://mont-roig.cat
X-WR-CALDESC:Esdeveniments per Ajuntament de Mont-roig del Camp
BEGIN:VTIMEZONE
TZID:Europe/Madrid
BEGIN:DAYLIGHT
TZOFFSETFROM:+0100
TZOFFSETTO:+0200
TZNAME:CEST
DTSTART:20190331T010000
END:DAYLIGHT
BEGIN:STANDARD
TZOFFSETFROM:+0200
TZOFFSETTO:+0100
TZNAME:CET
DTSTART:20191027T010000
END:STANDARD
END:VTIMEZONE
BEGIN:VEVENT
DTSTART;TZID=Europe/Madrid:20191231T180000
DTEND;TZID=Europe/Madrid:20191231T190000
DTSTAMP:20260421T200821
CREATED:20191122T133745Z
LAST-MODIFIED:20191230T144552Z
UID:40712-1577815200-1577818800@mont-roig.cat
SUMMARY:Tradicional rebuda de l'Home dels Nassos
DESCRIPTION:A càrrec de la Companyia L’Invisible Titelles. \nCercavila des de la Plaça de Mossèn Gaietà Ivern fins arribar a la Casa de Cultura\, on aquest personatge farà el seu discurs des del balcó. \nEn cas de pluja\, l’espectacle es farà al C.C. Església Vella.
URL:https://mont-roig.cat/acte/tradicional-rebuda-de-lhome-dels-nassos/
LOCATION:Plaça Mossèn Gaietà Ivern\, Plaça Mossèn Gaietà Ivern\, Mont-roig del Camp\, Tarragona\, 43300\, Spain
CATEGORIES:Ajuntament,Festes
ATTACH;FMTTYPE=image/jpeg:https://mont-roig.cat/wp-content/uploads/PROGRAMA_NADAL_mont-roig_19_rev03_page-0001.jpg
GEO:41.0880839;0.9576999
X-APPLE-STRUCTURED-LOCATION;VALUE=URI;X-ADDRESS=Plaça Mossèn Gaietà Ivern Plaça Mossèn Gaietà Ivern Mont-roig del Camp Tarragona 43300 Spain;X-APPLE-RADIUS=500;X-TITLE=Plaça Mossèn Gaietà Ivern:geo:0.9576999,41.0880839
END:VEVENT
END:VCALENDAR