BEGIN:VCALENDAR
VERSION:2.0
PRODID:-//Ajuntament de Mont-roig del Camp - ECPv5.16.3.1//NONSGML v1.0//EN
CALSCALE:GREGORIAN
METHOD:PUBLISH
X-WR-CALNAME:Ajuntament de Mont-roig del Camp
X-ORIGINAL-URL:https://mont-roig.cat
X-WR-CALDESC:Esdeveniments per Ajuntament de Mont-roig del Camp
BEGIN:VTIMEZONE
TZID:Europe/Madrid
BEGIN:DAYLIGHT
TZOFFSETFROM:+0100
TZOFFSETTO:+0200
TZNAME:CEST
DTSTART:20260329T010000
END:DAYLIGHT
BEGIN:STANDARD
TZOFFSETFROM:+0200
TZOFFSETTO:+0100
TZNAME:CET
DTSTART:20261025T010000
END:STANDARD
END:VTIMEZONE
BEGIN:VEVENT
DTSTART;TZID=Europe/Madrid:20260303T173000
DTEND;TZID=Europe/Madrid:20260303T193000
DTSTAMP:20260421T032344
CREATED:20260203T082141Z
LAST-MODIFIED:20260211T105259Z
UID:88536-1772559000-1772566200@mont-roig.cat
SUMMARY:Tria educativa i orientació laboral
DESCRIPTION:Miami Platja \nOrientació personalitzada per a joves per definir el seu itinerari d’estudis i feina: informació sobre sortides\, currículum i presa de decisions amb criteri i confiança. \n\nLloc: Sala 3 del Polivalent Sant Jaume\nPreu: Gratuït\nInscripció: joventut@mont-roig.cat\nA partir de 16 anys
URL:https://mont-roig.cat/acte/tria-educativa-i-orientacio-laboral/
LOCATION:Centre Polivalent Sant Jaume\, Carrer de Sòria\, 18\, Miami Platja\, Tarragona\, 43892\, Spain
CATEGORIES:Ajuntament,Joventut
ATTACH;FMTTYPE=image/jpeg:https://mont-roig.cat/wp-content/uploads/orientacio-laboral.jpg
END:VEVENT
END:VCALENDAR