BEGIN:VCALENDAR
VERSION:2.0
PRODID:-//Ajuntament de Mont-roig del Camp - ECPv5.16.3.1//NONSGML v1.0//EN
CALSCALE:GREGORIAN
METHOD:PUBLISH
X-WR-CALNAME:Ajuntament de Mont-roig del Camp
X-ORIGINAL-URL:https://mont-roig.cat
X-WR-CALDESC:Esdeveniments per Ajuntament de Mont-roig del Camp
BEGIN:VTIMEZONE
TZID:Europe/Madrid
BEGIN:DAYLIGHT
TZOFFSETFROM:+0100
TZOFFSETTO:+0200
TZNAME:CEST
DTSTART:20220327T010000
END:DAYLIGHT
BEGIN:STANDARD
TZOFFSETFROM:+0200
TZOFFSETTO:+0100
TZNAME:CET
DTSTART:20221030T010000
END:STANDARD
END:VTIMEZONE
BEGIN:VEVENT
DTSTART;TZID=Europe/Madrid:20221126T180000
DTEND;TZID=Europe/Madrid:20221126T200000
DTSTAMP:20260421T204633
CREATED:20221115T135319Z
LAST-MODIFIED:20221124T110045Z
UID:66604-1669485600-1669492800@mont-roig.cat
SUMMARY:Ulissa
DESCRIPTION:ESPECTACLE INFANTIL A CÀRREC DE LA GENOVESA NARRATIVES TEATRALS
URL:https://mont-roig.cat/acte/ulissa/
LOCATION:Centre Polivalent Sant Jaume\, Carrer de Sòria\, 18\, Miami Platja\, Tarragona\, 43892\, Spain
CATEGORIES:Ajuntament,Cultura
ATTACH;FMTTYPE=image/jpeg:https://mont-roig.cat/wp-content/uploads/Ulissa-dissabte-26_page-0001.jpg
END:VEVENT
END:VCALENDAR