BEGIN:VCALENDAR
VERSION:2.0
PRODID:-//Ajuntament de Mont-roig del Camp - ECPv5.16.3.1//NONSGML v1.0//EN
CALSCALE:GREGORIAN
METHOD:PUBLISH
X-WR-CALNAME:Ajuntament de Mont-roig del Camp
X-ORIGINAL-URL:https://mont-roig.cat
X-WR-CALDESC:Esdeveniments per Ajuntament de Mont-roig del Camp
BEGIN:VTIMEZONE
TZID:Europe/Madrid
BEGIN:DAYLIGHT
TZOFFSETFROM:+0100
TZOFFSETTO:+0200
TZNAME:CEST
DTSTART:20180325T010000
END:DAYLIGHT
BEGIN:STANDARD
TZOFFSETFROM:+0200
TZOFFSETTO:+0100
TZNAME:CET
DTSTART:20181028T010000
END:STANDARD
END:VTIMEZONE
BEGIN:VEVENT
DTSTART;TZID=Europe/Madrid:20180317T120000
DTEND;TZID=Europe/Madrid:20180317T140000
DTSTAMP:20260421T172147
CREATED:20180302T171433Z
LAST-MODIFIED:20180302T171433Z
UID:25837-1521288000-1521295200@mont-roig.cat
SUMMARY:Vermut popular ADEU NACIONAL\, HOLA AVINGUDA!
DESCRIPTION:A l’Avinguda de Barcelona\, entre av. de Califòrnia i av. de Viena\, acte simbòlic de comiat de la Nacional 340 abans de l’inici de les obres de remodelació de l’avinguda.   Hi haurà un taller de dibuix amb peces d’asfalt de la carretera\, xanquers i la batucada del grup local Miami Sona.
URL:https://mont-roig.cat/acte/vermut-popular-adeu-nacional-hola-avinguda/
LOCATION:Avinguda Barcelona\, Avinguda Barcelona\, Miami Platja 
CATEGORIES:Ajuntament
GEO:41.009761;0.9396429
X-APPLE-STRUCTURED-LOCATION;VALUE=URI;X-ADDRESS=Avinguda Barcelona Avinguda Barcelona Miami Platja;X-APPLE-RADIUS=500;X-TITLE=Avinguda Barcelona:geo:0.9396429,41.009761
END:VEVENT
END:VCALENDAR